BEGIN:VCALENDAR
VERSION:2.0
PRODID:-//Parkside Community Church - ECPv6.15.17.1//NONSGML v1.0//EN
CALSCALE:GREGORIAN
METHOD:PUBLISH
X-WR-CALNAME:Parkside Community Church
X-ORIGINAL-URL:https://www.parksidecc.church
X-WR-CALDESC:Events for Parkside Community Church
REFRESH-INTERVAL;VALUE=DURATION:PT1H
X-Robots-Tag:noindex
X-PUBLISHED-TTL:PT1H
BEGIN:VTIMEZONE
TZID:America/Indiana/Indianapolis
BEGIN:DAYLIGHT
TZOFFSETFROM:-0500
TZOFFSETTO:-0400
TZNAME:EDT
DTSTART:20290311T070000
END:DAYLIGHT
BEGIN:STANDARD
TZOFFSETFROM:-0400
TZOFFSETTO:-0500
TZNAME:EST
DTSTART:20291104T060000
END:STANDARD
BEGIN:DAYLIGHT
TZOFFSETFROM:-0500
TZOFFSETTO:-0400
TZNAME:EDT
DTSTART:20300310T070000
END:DAYLIGHT
BEGIN:STANDARD
TZOFFSETFROM:-0400
TZOFFSETTO:-0500
TZNAME:EST
DTSTART:20301103T060000
END:STANDARD
BEGIN:DAYLIGHT
TZOFFSETFROM:-0500
TZOFFSETTO:-0400
TZNAME:EDT
DTSTART:20310309T070000
END:DAYLIGHT
BEGIN:STANDARD
TZOFFSETFROM:-0400
TZOFFSETTO:-0500
TZNAME:EST
DTSTART:20311102T060000
END:STANDARD
END:VTIMEZONE
BEGIN:VEVENT
DTSTART;TZID=America/Indiana/Indianapolis:20300404T171500
DTEND;TZID=America/Indiana/Indianapolis:20300404T190000
DTSTAMP:20260422T223337
CREATED:20250203T130703Z
LAST-MODIFIED:20250428T093925Z
UID:10002245-1901553300-1901559600@www.parksidecc.church
SUMMARY:Moms in Prayer
DESCRIPTION:Moms\, do you worry about your children? Come replace your anxiety and fear with peace and hope by praying with other women. Moms in Prayer gathers women together to pray specifically and scripturally for our children and their schools. Won’t you join with us in prayer for this next generation? Please contact Lacey DeWitt. For more information about Moms in Prayer\, visit MomsInPrayer.org. \n 
URL:https://www.parksidecc.church/event/moms-in-prayer-2-2/2030-04-04/
LOCATION:Lacey’s House\, 210 N Michigan\, Argos\, IN\, United States
CATEGORIES:Women
ATTACH;FMTTYPE=image/png:https://www.parksidecc.church/wp-content/uploads/2024/03/MIP_Logo_1-01.png
END:VEVENT
BEGIN:VEVENT
DTSTART;TZID=America/Indiana/Indianapolis:20300411T171500
DTEND;TZID=America/Indiana/Indianapolis:20300411T190000
DTSTAMP:20260422T223337
CREATED:20250203T130703Z
LAST-MODIFIED:20250428T093925Z
UID:10002246-1902158100-1902164400@www.parksidecc.church
SUMMARY:Moms in Prayer
DESCRIPTION:Moms\, do you worry about your children? Come replace your anxiety and fear with peace and hope by praying with other women. Moms in Prayer gathers women together to pray specifically and scripturally for our children and their schools. Won’t you join with us in prayer for this next generation? Please contact Lacey DeWitt. For more information about Moms in Prayer\, visit MomsInPrayer.org. \n 
URL:https://www.parksidecc.church/event/moms-in-prayer-2-2/2030-04-11/
LOCATION:Lacey’s House\, 210 N Michigan\, Argos\, IN\, United States
CATEGORIES:Women
ATTACH;FMTTYPE=image/png:https://www.parksidecc.church/wp-content/uploads/2024/03/MIP_Logo_1-01.png
END:VEVENT
BEGIN:VEVENT
DTSTART;TZID=America/Indiana/Indianapolis:20300418T171500
DTEND;TZID=America/Indiana/Indianapolis:20300418T190000
DTSTAMP:20260422T223337
CREATED:20250203T130703Z
LAST-MODIFIED:20250428T093925Z
UID:10002247-1902762900-1902769200@www.parksidecc.church
SUMMARY:Moms in Prayer
DESCRIPTION:Moms\, do you worry about your children? Come replace your anxiety and fear with peace and hope by praying with other women. Moms in Prayer gathers women together to pray specifically and scripturally for our children and their schools. Won’t you join with us in prayer for this next generation? Please contact Lacey DeWitt. For more information about Moms in Prayer\, visit MomsInPrayer.org. \n 
URL:https://www.parksidecc.church/event/moms-in-prayer-2-2/2030-04-18/
LOCATION:Lacey’s House\, 210 N Michigan\, Argos\, IN\, United States
CATEGORIES:Women
ATTACH;FMTTYPE=image/png:https://www.parksidecc.church/wp-content/uploads/2024/03/MIP_Logo_1-01.png
END:VEVENT
BEGIN:VEVENT
DTSTART;TZID=America/Indiana/Indianapolis:20300425T171500
DTEND;TZID=America/Indiana/Indianapolis:20300425T190000
DTSTAMP:20260422T223337
CREATED:20250203T130703Z
LAST-MODIFIED:20250428T093925Z
UID:10002248-1903367700-1903374000@www.parksidecc.church
SUMMARY:Moms in Prayer
DESCRIPTION:Moms\, do you worry about your children? Come replace your anxiety and fear with peace and hope by praying with other women. Moms in Prayer gathers women together to pray specifically and scripturally for our children and their schools. Won’t you join with us in prayer for this next generation? Please contact Lacey DeWitt. For more information about Moms in Prayer\, visit MomsInPrayer.org. \n 
URL:https://www.parksidecc.church/event/moms-in-prayer-2-2/2030-04-25/
LOCATION:Lacey’s House\, 210 N Michigan\, Argos\, IN\, United States
CATEGORIES:Women
ATTACH;FMTTYPE=image/png:https://www.parksidecc.church/wp-content/uploads/2024/03/MIP_Logo_1-01.png
END:VEVENT
END:VCALENDAR