BEGIN:VCALENDAR
VERSION:2.0
PRODID:-//Parkside Community Church - ECPv6.15.17.1//NONSGML v1.0//EN
CALSCALE:GREGORIAN
METHOD:PUBLISH
X-WR-CALNAME:Parkside Community Church
X-ORIGINAL-URL:https://www.parksidecc.church
X-WR-CALDESC:Events for Parkside Community Church
REFRESH-INTERVAL;VALUE=DURATION:PT1H
X-Robots-Tag:noindex
X-PUBLISHED-TTL:PT1H
BEGIN:VTIMEZONE
TZID:America/Indiana/Indianapolis
BEGIN:DAYLIGHT
TZOFFSETFROM:-0500
TZOFFSETTO:-0400
TZNAME:EDT
DTSTART:20280312T070000
END:DAYLIGHT
BEGIN:STANDARD
TZOFFSETFROM:-0400
TZOFFSETTO:-0500
TZNAME:EST
DTSTART:20281105T060000
END:STANDARD
BEGIN:DAYLIGHT
TZOFFSETFROM:-0500
TZOFFSETTO:-0400
TZNAME:EDT
DTSTART:20290311T070000
END:DAYLIGHT
BEGIN:STANDARD
TZOFFSETFROM:-0400
TZOFFSETTO:-0500
TZNAME:EST
DTSTART:20291104T060000
END:STANDARD
BEGIN:DAYLIGHT
TZOFFSETFROM:-0500
TZOFFSETTO:-0400
TZNAME:EDT
DTSTART:20300310T070000
END:DAYLIGHT
BEGIN:STANDARD
TZOFFSETFROM:-0400
TZOFFSETTO:-0500
TZNAME:EST
DTSTART:20301103T060000
END:STANDARD
END:VTIMEZONE
BEGIN:VEVENT
DTSTART;TZID=America/Indiana/Indianapolis:20290607T171500
DTEND;TZID=America/Indiana/Indianapolis:20290607T190000
DTSTAMP:20260422T105257
CREATED:20250203T130703Z
LAST-MODIFIED:20250428T093925Z
UID:10002202-1875546900-1875553200@www.parksidecc.church
SUMMARY:Moms in Prayer
DESCRIPTION:Moms\, do you worry about your children? Come replace your anxiety and fear with peace and hope by praying with other women. Moms in Prayer gathers women together to pray specifically and scripturally for our children and their schools. Won’t you join with us in prayer for this next generation? Please contact Lacey DeWitt. For more information about Moms in Prayer\, visit MomsInPrayer.org. \n 
URL:https://www.parksidecc.church/event/moms-in-prayer-2-2/2029-06-07/
LOCATION:Lacey’s House\, 210 N Michigan\, Argos\, IN\, United States
CATEGORIES:Women
ATTACH;FMTTYPE=image/png:https://www.parksidecc.church/wp-content/uploads/2024/03/MIP_Logo_1-01.png
END:VEVENT
BEGIN:VEVENT
DTSTART;TZID=America/Indiana/Indianapolis:20290607T180000
DTEND;TZID=America/Indiana/Indianapolis:20290607T200000
DTSTAMP:20260422T105257
CREATED:20250314T142229Z
LAST-MODIFIED:20250314T142229Z
UID:10001872-1875549600-1875556800@www.parksidecc.church
SUMMARY:Women's Bible Study
DESCRIPTION:Perfectly Flawed – Let’s find out how God can help us turn out weaknesses into strengths.
URL:https://www.parksidecc.church/event/womens-bible-study/2029-06-07/
CATEGORIES:Featured,Women
ATTACH;FMTTYPE=image/jpeg:https://www.parksidecc.church/wp-content/uploads/2025/03/women-s-bible-study_orig.jpg
END:VEVENT
BEGIN:VEVENT
DTSTART;TZID=America/Indiana/Indianapolis:20290614T171500
DTEND;TZID=America/Indiana/Indianapolis:20290614T190000
DTSTAMP:20260422T105257
CREATED:20250203T130703Z
LAST-MODIFIED:20250428T093925Z
UID:10002203-1876151700-1876158000@www.parksidecc.church
SUMMARY:Moms in Prayer
DESCRIPTION:Moms\, do you worry about your children? Come replace your anxiety and fear with peace and hope by praying with other women. Moms in Prayer gathers women together to pray specifically and scripturally for our children and their schools. Won’t you join with us in prayer for this next generation? Please contact Lacey DeWitt. For more information about Moms in Prayer\, visit MomsInPrayer.org. \n 
URL:https://www.parksidecc.church/event/moms-in-prayer-2-2/2029-06-14/
LOCATION:Lacey’s House\, 210 N Michigan\, Argos\, IN\, United States
CATEGORIES:Women
ATTACH;FMTTYPE=image/png:https://www.parksidecc.church/wp-content/uploads/2024/03/MIP_Logo_1-01.png
END:VEVENT
BEGIN:VEVENT
DTSTART;TZID=America/Indiana/Indianapolis:20290614T180000
DTEND;TZID=America/Indiana/Indianapolis:20290614T200000
DTSTAMP:20260422T105257
CREATED:20250314T142229Z
LAST-MODIFIED:20250314T142229Z
UID:10001873-1876154400-1876161600@www.parksidecc.church
SUMMARY:Women's Bible Study
DESCRIPTION:Perfectly Flawed – Let’s find out how God can help us turn out weaknesses into strengths.
URL:https://www.parksidecc.church/event/womens-bible-study/2029-06-14/
CATEGORIES:Featured,Women
ATTACH;FMTTYPE=image/jpeg:https://www.parksidecc.church/wp-content/uploads/2025/03/women-s-bible-study_orig.jpg
END:VEVENT
BEGIN:VEVENT
DTSTART;TZID=America/Indiana/Indianapolis:20290621T171500
DTEND;TZID=America/Indiana/Indianapolis:20290621T190000
DTSTAMP:20260422T105257
CREATED:20250203T130703Z
LAST-MODIFIED:20250428T093925Z
UID:10002204-1876756500-1876762800@www.parksidecc.church
SUMMARY:Moms in Prayer
DESCRIPTION:Moms\, do you worry about your children? Come replace your anxiety and fear with peace and hope by praying with other women. Moms in Prayer gathers women together to pray specifically and scripturally for our children and their schools. Won’t you join with us in prayer for this next generation? Please contact Lacey DeWitt. For more information about Moms in Prayer\, visit MomsInPrayer.org. \n 
URL:https://www.parksidecc.church/event/moms-in-prayer-2-2/2029-06-21/
LOCATION:Lacey’s House\, 210 N Michigan\, Argos\, IN\, United States
CATEGORIES:Women
ATTACH;FMTTYPE=image/png:https://www.parksidecc.church/wp-content/uploads/2024/03/MIP_Logo_1-01.png
END:VEVENT
BEGIN:VEVENT
DTSTART;TZID=America/Indiana/Indianapolis:20290621T180000
DTEND;TZID=America/Indiana/Indianapolis:20290621T200000
DTSTAMP:20260422T105257
CREATED:20250314T142229Z
LAST-MODIFIED:20250314T142229Z
UID:10001874-1876759200-1876766400@www.parksidecc.church
SUMMARY:Women's Bible Study
DESCRIPTION:Perfectly Flawed – Let’s find out how God can help us turn out weaknesses into strengths.
URL:https://www.parksidecc.church/event/womens-bible-study/2029-06-21/
CATEGORIES:Featured,Women
ATTACH;FMTTYPE=image/jpeg:https://www.parksidecc.church/wp-content/uploads/2025/03/women-s-bible-study_orig.jpg
END:VEVENT
BEGIN:VEVENT
DTSTART;TZID=America/Indiana/Indianapolis:20290628T171500
DTEND;TZID=America/Indiana/Indianapolis:20290628T190000
DTSTAMP:20260422T105257
CREATED:20250203T130703Z
LAST-MODIFIED:20250428T093925Z
UID:10002205-1877361300-1877367600@www.parksidecc.church
SUMMARY:Moms in Prayer
DESCRIPTION:Moms\, do you worry about your children? Come replace your anxiety and fear with peace and hope by praying with other women. Moms in Prayer gathers women together to pray specifically and scripturally for our children and their schools. Won’t you join with us in prayer for this next generation? Please contact Lacey DeWitt. For more information about Moms in Prayer\, visit MomsInPrayer.org. \n 
URL:https://www.parksidecc.church/event/moms-in-prayer-2-2/2029-06-28/
LOCATION:Lacey’s House\, 210 N Michigan\, Argos\, IN\, United States
CATEGORIES:Women
ATTACH;FMTTYPE=image/png:https://www.parksidecc.church/wp-content/uploads/2024/03/MIP_Logo_1-01.png
END:VEVENT
BEGIN:VEVENT
DTSTART;TZID=America/Indiana/Indianapolis:20290628T180000
DTEND;TZID=America/Indiana/Indianapolis:20290628T200000
DTSTAMP:20260422T105257
CREATED:20250314T142229Z
LAST-MODIFIED:20250314T142229Z
UID:10001875-1877364000-1877371200@www.parksidecc.church
SUMMARY:Women's Bible Study
DESCRIPTION:Perfectly Flawed – Let’s find out how God can help us turn out weaknesses into strengths.
URL:https://www.parksidecc.church/event/womens-bible-study/2029-06-28/
CATEGORIES:Featured,Women
ATTACH;FMTTYPE=image/jpeg:https://www.parksidecc.church/wp-content/uploads/2025/03/women-s-bible-study_orig.jpg
END:VEVENT
BEGIN:VEVENT
DTSTART;TZID=America/Indiana/Indianapolis:20290705T171500
DTEND;TZID=America/Indiana/Indianapolis:20290705T190000
DTSTAMP:20260422T105257
CREATED:20250203T130703Z
LAST-MODIFIED:20250428T093925Z
UID:10002206-1877966100-1877972400@www.parksidecc.church
SUMMARY:Moms in Prayer
DESCRIPTION:Moms\, do you worry about your children? Come replace your anxiety and fear with peace and hope by praying with other women. Moms in Prayer gathers women together to pray specifically and scripturally for our children and their schools. Won’t you join with us in prayer for this next generation? Please contact Lacey DeWitt. For more information about Moms in Prayer\, visit MomsInPrayer.org. \n 
URL:https://www.parksidecc.church/event/moms-in-prayer-2-2/2029-07-05/
LOCATION:Lacey’s House\, 210 N Michigan\, Argos\, IN\, United States
CATEGORIES:Women
ATTACH;FMTTYPE=image/png:https://www.parksidecc.church/wp-content/uploads/2024/03/MIP_Logo_1-01.png
END:VEVENT
BEGIN:VEVENT
DTSTART;TZID=America/Indiana/Indianapolis:20290705T180000
DTEND;TZID=America/Indiana/Indianapolis:20290705T200000
DTSTAMP:20260422T105257
CREATED:20250314T142229Z
LAST-MODIFIED:20250314T142229Z
UID:10001876-1877968800-1877976000@www.parksidecc.church
SUMMARY:Women's Bible Study
DESCRIPTION:Perfectly Flawed – Let’s find out how God can help us turn out weaknesses into strengths.
URL:https://www.parksidecc.church/event/womens-bible-study/2029-07-05/
CATEGORIES:Featured,Women
ATTACH;FMTTYPE=image/jpeg:https://www.parksidecc.church/wp-content/uploads/2025/03/women-s-bible-study_orig.jpg
END:VEVENT
BEGIN:VEVENT
DTSTART;TZID=America/Indiana/Indianapolis:20290712T171500
DTEND;TZID=America/Indiana/Indianapolis:20290712T190000
DTSTAMP:20260422T105257
CREATED:20250203T130703Z
LAST-MODIFIED:20250428T093925Z
UID:10002207-1878570900-1878577200@www.parksidecc.church
SUMMARY:Moms in Prayer
DESCRIPTION:Moms\, do you worry about your children? Come replace your anxiety and fear with peace and hope by praying with other women. Moms in Prayer gathers women together to pray specifically and scripturally for our children and their schools. Won’t you join with us in prayer for this next generation? Please contact Lacey DeWitt. For more information about Moms in Prayer\, visit MomsInPrayer.org. \n 
URL:https://www.parksidecc.church/event/moms-in-prayer-2-2/2029-07-12/
LOCATION:Lacey’s House\, 210 N Michigan\, Argos\, IN\, United States
CATEGORIES:Women
ATTACH;FMTTYPE=image/png:https://www.parksidecc.church/wp-content/uploads/2024/03/MIP_Logo_1-01.png
END:VEVENT
BEGIN:VEVENT
DTSTART;TZID=America/Indiana/Indianapolis:20290712T180000
DTEND;TZID=America/Indiana/Indianapolis:20290712T200000
DTSTAMP:20260422T105257
CREATED:20250314T142229Z
LAST-MODIFIED:20250314T142229Z
UID:10001877-1878573600-1878580800@www.parksidecc.church
SUMMARY:Women's Bible Study
DESCRIPTION:Perfectly Flawed – Let’s find out how God can help us turn out weaknesses into strengths.
URL:https://www.parksidecc.church/event/womens-bible-study/2029-07-12/
CATEGORIES:Featured,Women
ATTACH;FMTTYPE=image/jpeg:https://www.parksidecc.church/wp-content/uploads/2025/03/women-s-bible-study_orig.jpg
END:VEVENT
BEGIN:VEVENT
DTSTART;TZID=America/Indiana/Indianapolis:20290719T171500
DTEND;TZID=America/Indiana/Indianapolis:20290719T190000
DTSTAMP:20260422T105257
CREATED:20250203T130703Z
LAST-MODIFIED:20250428T093925Z
UID:10002208-1879175700-1879182000@www.parksidecc.church
SUMMARY:Moms in Prayer
DESCRIPTION:Moms\, do you worry about your children? Come replace your anxiety and fear with peace and hope by praying with other women. Moms in Prayer gathers women together to pray specifically and scripturally for our children and their schools. Won’t you join with us in prayer for this next generation? Please contact Lacey DeWitt. For more information about Moms in Prayer\, visit MomsInPrayer.org. \n 
URL:https://www.parksidecc.church/event/moms-in-prayer-2-2/2029-07-19/
LOCATION:Lacey’s House\, 210 N Michigan\, Argos\, IN\, United States
CATEGORIES:Women
ATTACH;FMTTYPE=image/png:https://www.parksidecc.church/wp-content/uploads/2024/03/MIP_Logo_1-01.png
END:VEVENT
BEGIN:VEVENT
DTSTART;TZID=America/Indiana/Indianapolis:20290719T180000
DTEND;TZID=America/Indiana/Indianapolis:20290719T200000
DTSTAMP:20260422T105257
CREATED:20250314T142229Z
LAST-MODIFIED:20250314T142229Z
UID:10001878-1879178400-1879185600@www.parksidecc.church
SUMMARY:Women's Bible Study
DESCRIPTION:Perfectly Flawed – Let’s find out how God can help us turn out weaknesses into strengths.
URL:https://www.parksidecc.church/event/womens-bible-study/2029-07-19/
CATEGORIES:Featured,Women
ATTACH;FMTTYPE=image/jpeg:https://www.parksidecc.church/wp-content/uploads/2025/03/women-s-bible-study_orig.jpg
END:VEVENT
BEGIN:VEVENT
DTSTART;TZID=America/Indiana/Indianapolis:20290726T171500
DTEND;TZID=America/Indiana/Indianapolis:20290726T190000
DTSTAMP:20260422T105257
CREATED:20250203T130703Z
LAST-MODIFIED:20250428T093925Z
UID:10002209-1879780500-1879786800@www.parksidecc.church
SUMMARY:Moms in Prayer
DESCRIPTION:Moms\, do you worry about your children? Come replace your anxiety and fear with peace and hope by praying with other women. Moms in Prayer gathers women together to pray specifically and scripturally for our children and their schools. Won’t you join with us in prayer for this next generation? Please contact Lacey DeWitt. For more information about Moms in Prayer\, visit MomsInPrayer.org. \n 
URL:https://www.parksidecc.church/event/moms-in-prayer-2-2/2029-07-26/
LOCATION:Lacey’s House\, 210 N Michigan\, Argos\, IN\, United States
CATEGORIES:Women
ATTACH;FMTTYPE=image/png:https://www.parksidecc.church/wp-content/uploads/2024/03/MIP_Logo_1-01.png
END:VEVENT
BEGIN:VEVENT
DTSTART;TZID=America/Indiana/Indianapolis:20290726T180000
DTEND;TZID=America/Indiana/Indianapolis:20290726T200000
DTSTAMP:20260422T105257
CREATED:20250314T142229Z
LAST-MODIFIED:20250314T142229Z
UID:10001879-1879783200-1879790400@www.parksidecc.church
SUMMARY:Women's Bible Study
DESCRIPTION:Perfectly Flawed – Let’s find out how God can help us turn out weaknesses into strengths.
URL:https://www.parksidecc.church/event/womens-bible-study/2029-07-26/
CATEGORIES:Featured,Women
ATTACH;FMTTYPE=image/jpeg:https://www.parksidecc.church/wp-content/uploads/2025/03/women-s-bible-study_orig.jpg
END:VEVENT
BEGIN:VEVENT
DTSTART;TZID=America/Indiana/Indianapolis:20290802T171500
DTEND;TZID=America/Indiana/Indianapolis:20290802T190000
DTSTAMP:20260422T105257
CREATED:20250203T130703Z
LAST-MODIFIED:20250428T093925Z
UID:10002210-1880385300-1880391600@www.parksidecc.church
SUMMARY:Moms in Prayer
DESCRIPTION:Moms\, do you worry about your children? Come replace your anxiety and fear with peace and hope by praying with other women. Moms in Prayer gathers women together to pray specifically and scripturally for our children and their schools. Won’t you join with us in prayer for this next generation? Please contact Lacey DeWitt. For more information about Moms in Prayer\, visit MomsInPrayer.org. \n 
URL:https://www.parksidecc.church/event/moms-in-prayer-2-2/2029-08-02/
LOCATION:Lacey’s House\, 210 N Michigan\, Argos\, IN\, United States
CATEGORIES:Women
ATTACH;FMTTYPE=image/png:https://www.parksidecc.church/wp-content/uploads/2024/03/MIP_Logo_1-01.png
END:VEVENT
BEGIN:VEVENT
DTSTART;TZID=America/Indiana/Indianapolis:20290802T180000
DTEND;TZID=America/Indiana/Indianapolis:20290802T200000
DTSTAMP:20260422T105257
CREATED:20250314T142229Z
LAST-MODIFIED:20250314T142229Z
UID:10001880-1880388000-1880395200@www.parksidecc.church
SUMMARY:Women's Bible Study
DESCRIPTION:Perfectly Flawed – Let’s find out how God can help us turn out weaknesses into strengths.
URL:https://www.parksidecc.church/event/womens-bible-study/2029-08-02/
CATEGORIES:Featured,Women
ATTACH;FMTTYPE=image/jpeg:https://www.parksidecc.church/wp-content/uploads/2025/03/women-s-bible-study_orig.jpg
END:VEVENT
BEGIN:VEVENT
DTSTART;TZID=America/Indiana/Indianapolis:20290809T171500
DTEND;TZID=America/Indiana/Indianapolis:20290809T190000
DTSTAMP:20260422T105257
CREATED:20250203T130703Z
LAST-MODIFIED:20250428T093925Z
UID:10002211-1880990100-1880996400@www.parksidecc.church
SUMMARY:Moms in Prayer
DESCRIPTION:Moms\, do you worry about your children? Come replace your anxiety and fear with peace and hope by praying with other women. Moms in Prayer gathers women together to pray specifically and scripturally for our children and their schools. Won’t you join with us in prayer for this next generation? Please contact Lacey DeWitt. For more information about Moms in Prayer\, visit MomsInPrayer.org. \n 
URL:https://www.parksidecc.church/event/moms-in-prayer-2-2/2029-08-09/
LOCATION:Lacey’s House\, 210 N Michigan\, Argos\, IN\, United States
CATEGORIES:Women
ATTACH;FMTTYPE=image/png:https://www.parksidecc.church/wp-content/uploads/2024/03/MIP_Logo_1-01.png
END:VEVENT
BEGIN:VEVENT
DTSTART;TZID=America/Indiana/Indianapolis:20290809T180000
DTEND;TZID=America/Indiana/Indianapolis:20290809T200000
DTSTAMP:20260422T105257
CREATED:20250314T142229Z
LAST-MODIFIED:20250314T142229Z
UID:10001881-1880992800-1881000000@www.parksidecc.church
SUMMARY:Women's Bible Study
DESCRIPTION:Perfectly Flawed – Let’s find out how God can help us turn out weaknesses into strengths.
URL:https://www.parksidecc.church/event/womens-bible-study/2029-08-09/
CATEGORIES:Featured,Women
ATTACH;FMTTYPE=image/jpeg:https://www.parksidecc.church/wp-content/uploads/2025/03/women-s-bible-study_orig.jpg
END:VEVENT
BEGIN:VEVENT
DTSTART;TZID=America/Indiana/Indianapolis:20290816T171500
DTEND;TZID=America/Indiana/Indianapolis:20290816T190000
DTSTAMP:20260422T105257
CREATED:20250203T130703Z
LAST-MODIFIED:20250428T093925Z
UID:10002212-1881594900-1881601200@www.parksidecc.church
SUMMARY:Moms in Prayer
DESCRIPTION:Moms\, do you worry about your children? Come replace your anxiety and fear with peace and hope by praying with other women. Moms in Prayer gathers women together to pray specifically and scripturally for our children and their schools. Won’t you join with us in prayer for this next generation? Please contact Lacey DeWitt. For more information about Moms in Prayer\, visit MomsInPrayer.org. \n 
URL:https://www.parksidecc.church/event/moms-in-prayer-2-2/2029-08-16/
LOCATION:Lacey’s House\, 210 N Michigan\, Argos\, IN\, United States
CATEGORIES:Women
ATTACH;FMTTYPE=image/png:https://www.parksidecc.church/wp-content/uploads/2024/03/MIP_Logo_1-01.png
END:VEVENT
BEGIN:VEVENT
DTSTART;TZID=America/Indiana/Indianapolis:20290816T180000
DTEND;TZID=America/Indiana/Indianapolis:20290816T200000
DTSTAMP:20260422T105257
CREATED:20250314T142229Z
LAST-MODIFIED:20250314T142229Z
UID:10001882-1881597600-1881604800@www.parksidecc.church
SUMMARY:Women's Bible Study
DESCRIPTION:Perfectly Flawed – Let’s find out how God can help us turn out weaknesses into strengths.
URL:https://www.parksidecc.church/event/womens-bible-study/2029-08-16/
CATEGORIES:Featured,Women
ATTACH;FMTTYPE=image/jpeg:https://www.parksidecc.church/wp-content/uploads/2025/03/women-s-bible-study_orig.jpg
END:VEVENT
BEGIN:VEVENT
DTSTART;TZID=America/Indiana/Indianapolis:20290823T171500
DTEND;TZID=America/Indiana/Indianapolis:20290823T190000
DTSTAMP:20260422T105257
CREATED:20250203T130703Z
LAST-MODIFIED:20250428T093925Z
UID:10002213-1882199700-1882206000@www.parksidecc.church
SUMMARY:Moms in Prayer
DESCRIPTION:Moms\, do you worry about your children? Come replace your anxiety and fear with peace and hope by praying with other women. Moms in Prayer gathers women together to pray specifically and scripturally for our children and their schools. Won’t you join with us in prayer for this next generation? Please contact Lacey DeWitt. For more information about Moms in Prayer\, visit MomsInPrayer.org. \n 
URL:https://www.parksidecc.church/event/moms-in-prayer-2-2/2029-08-23/
LOCATION:Lacey’s House\, 210 N Michigan\, Argos\, IN\, United States
CATEGORIES:Women
ATTACH;FMTTYPE=image/png:https://www.parksidecc.church/wp-content/uploads/2024/03/MIP_Logo_1-01.png
END:VEVENT
BEGIN:VEVENT
DTSTART;TZID=America/Indiana/Indianapolis:20290823T180000
DTEND;TZID=America/Indiana/Indianapolis:20290823T200000
DTSTAMP:20260422T105257
CREATED:20250314T142229Z
LAST-MODIFIED:20250314T142229Z
UID:10001883-1882202400-1882209600@www.parksidecc.church
SUMMARY:Women's Bible Study
DESCRIPTION:Perfectly Flawed – Let’s find out how God can help us turn out weaknesses into strengths.
URL:https://www.parksidecc.church/event/womens-bible-study/2029-08-23/
CATEGORIES:Featured,Women
ATTACH;FMTTYPE=image/jpeg:https://www.parksidecc.church/wp-content/uploads/2025/03/women-s-bible-study_orig.jpg
END:VEVENT
BEGIN:VEVENT
DTSTART;TZID=America/Indiana/Indianapolis:20290830T171500
DTEND;TZID=America/Indiana/Indianapolis:20290830T190000
DTSTAMP:20260422T105257
CREATED:20250203T130703Z
LAST-MODIFIED:20250428T093925Z
UID:10002214-1882804500-1882810800@www.parksidecc.church
SUMMARY:Moms in Prayer
DESCRIPTION:Moms\, do you worry about your children? Come replace your anxiety and fear with peace and hope by praying with other women. Moms in Prayer gathers women together to pray specifically and scripturally for our children and their schools. Won’t you join with us in prayer for this next generation? Please contact Lacey DeWitt. For more information about Moms in Prayer\, visit MomsInPrayer.org. \n 
URL:https://www.parksidecc.church/event/moms-in-prayer-2-2/2029-08-30/
LOCATION:Lacey’s House\, 210 N Michigan\, Argos\, IN\, United States
CATEGORIES:Women
ATTACH;FMTTYPE=image/png:https://www.parksidecc.church/wp-content/uploads/2024/03/MIP_Logo_1-01.png
END:VEVENT
BEGIN:VEVENT
DTSTART;TZID=America/Indiana/Indianapolis:20290830T180000
DTEND;TZID=America/Indiana/Indianapolis:20290830T200000
DTSTAMP:20260422T105257
CREATED:20250314T142229Z
LAST-MODIFIED:20250314T142229Z
UID:10001884-1882807200-1882814400@www.parksidecc.church
SUMMARY:Women's Bible Study
DESCRIPTION:Perfectly Flawed – Let’s find out how God can help us turn out weaknesses into strengths.
URL:https://www.parksidecc.church/event/womens-bible-study/2029-08-30/
CATEGORIES:Featured,Women
ATTACH;FMTTYPE=image/jpeg:https://www.parksidecc.church/wp-content/uploads/2025/03/women-s-bible-study_orig.jpg
END:VEVENT
BEGIN:VEVENT
DTSTART;TZID=America/Indiana/Indianapolis:20290906T171500
DTEND;TZID=America/Indiana/Indianapolis:20290906T190000
DTSTAMP:20260422T105257
CREATED:20250203T130703Z
LAST-MODIFIED:20250428T093925Z
UID:10002215-1883409300-1883415600@www.parksidecc.church
SUMMARY:Moms in Prayer
DESCRIPTION:Moms\, do you worry about your children? Come replace your anxiety and fear with peace and hope by praying with other women. Moms in Prayer gathers women together to pray specifically and scripturally for our children and their schools. Won’t you join with us in prayer for this next generation? Please contact Lacey DeWitt. For more information about Moms in Prayer\, visit MomsInPrayer.org. \n 
URL:https://www.parksidecc.church/event/moms-in-prayer-2-2/2029-09-06/
LOCATION:Lacey’s House\, 210 N Michigan\, Argos\, IN\, United States
CATEGORIES:Women
ATTACH;FMTTYPE=image/png:https://www.parksidecc.church/wp-content/uploads/2024/03/MIP_Logo_1-01.png
END:VEVENT
BEGIN:VEVENT
DTSTART;TZID=America/Indiana/Indianapolis:20290906T180000
DTEND;TZID=America/Indiana/Indianapolis:20290906T200000
DTSTAMP:20260422T105257
CREATED:20250314T142229Z
LAST-MODIFIED:20250314T142229Z
UID:10001885-1883412000-1883419200@www.parksidecc.church
SUMMARY:Women's Bible Study
DESCRIPTION:Perfectly Flawed – Let’s find out how God can help us turn out weaknesses into strengths.
URL:https://www.parksidecc.church/event/womens-bible-study/2029-09-06/
CATEGORIES:Featured,Women
ATTACH;FMTTYPE=image/jpeg:https://www.parksidecc.church/wp-content/uploads/2025/03/women-s-bible-study_orig.jpg
END:VEVENT
BEGIN:VEVENT
DTSTART;TZID=America/Indiana/Indianapolis:20290913T171500
DTEND;TZID=America/Indiana/Indianapolis:20290913T190000
DTSTAMP:20260422T105257
CREATED:20250203T130703Z
LAST-MODIFIED:20250428T093925Z
UID:10002216-1884014100-1884020400@www.parksidecc.church
SUMMARY:Moms in Prayer
DESCRIPTION:Moms\, do you worry about your children? Come replace your anxiety and fear with peace and hope by praying with other women. Moms in Prayer gathers women together to pray specifically and scripturally for our children and their schools. Won’t you join with us in prayer for this next generation? Please contact Lacey DeWitt. For more information about Moms in Prayer\, visit MomsInPrayer.org. \n 
URL:https://www.parksidecc.church/event/moms-in-prayer-2-2/2029-09-13/
LOCATION:Lacey’s House\, 210 N Michigan\, Argos\, IN\, United States
CATEGORIES:Women
ATTACH;FMTTYPE=image/png:https://www.parksidecc.church/wp-content/uploads/2024/03/MIP_Logo_1-01.png
END:VEVENT
BEGIN:VEVENT
DTSTART;TZID=America/Indiana/Indianapolis:20290913T180000
DTEND;TZID=America/Indiana/Indianapolis:20290913T200000
DTSTAMP:20260422T105257
CREATED:20250314T142229Z
LAST-MODIFIED:20250314T142229Z
UID:10001886-1884016800-1884024000@www.parksidecc.church
SUMMARY:Women's Bible Study
DESCRIPTION:Perfectly Flawed – Let’s find out how God can help us turn out weaknesses into strengths.
URL:https://www.parksidecc.church/event/womens-bible-study/2029-09-13/
CATEGORIES:Featured,Women
ATTACH;FMTTYPE=image/jpeg:https://www.parksidecc.church/wp-content/uploads/2025/03/women-s-bible-study_orig.jpg
END:VEVENT
END:VCALENDAR