BEGIN:VCALENDAR
VERSION:2.0
PRODID:-//Parkside Community Church - ECPv6.15.17.1//NONSGML v1.0//EN
CALSCALE:GREGORIAN
METHOD:PUBLISH
X-WR-CALNAME:Parkside Community Church
X-ORIGINAL-URL:https://www.parksidecc.church
X-WR-CALDESC:Events for Parkside Community Church
REFRESH-INTERVAL;VALUE=DURATION:PT1H
X-Robots-Tag:noindex
X-PUBLISHED-TTL:PT1H
BEGIN:VTIMEZONE
TZID:America/Indiana/Indianapolis
BEGIN:DAYLIGHT
TZOFFSETFROM:-0500
TZOFFSETTO:-0400
TZNAME:EDT
DTSTART:20270314T070000
END:DAYLIGHT
BEGIN:STANDARD
TZOFFSETFROM:-0400
TZOFFSETTO:-0500
TZNAME:EST
DTSTART:20271107T060000
END:STANDARD
BEGIN:DAYLIGHT
TZOFFSETFROM:-0500
TZOFFSETTO:-0400
TZNAME:EDT
DTSTART:20280312T070000
END:DAYLIGHT
BEGIN:STANDARD
TZOFFSETFROM:-0400
TZOFFSETTO:-0500
TZNAME:EST
DTSTART:20281105T060000
END:STANDARD
BEGIN:DAYLIGHT
TZOFFSETFROM:-0500
TZOFFSETTO:-0400
TZNAME:EDT
DTSTART:20290311T070000
END:DAYLIGHT
BEGIN:STANDARD
TZOFFSETFROM:-0400
TZOFFSETTO:-0500
TZNAME:EST
DTSTART:20291104T060000
END:STANDARD
END:VTIMEZONE
BEGIN:VEVENT
DTSTART;TZID=America/Indiana/Indianapolis:20280309T171500
DTEND;TZID=America/Indiana/Indianapolis:20280309T190000
DTSTAMP:20260421T152613
CREATED:20250203T130703Z
LAST-MODIFIED:20250428T093925Z
UID:10002137-1836234900-1836241200@www.parksidecc.church
SUMMARY:Moms in Prayer
DESCRIPTION:Moms\, do you worry about your children? Come replace your anxiety and fear with peace and hope by praying with other women. Moms in Prayer gathers women together to pray specifically and scripturally for our children and their schools. Won’t you join with us in prayer for this next generation? Please contact Lacey DeWitt. For more information about Moms in Prayer\, visit MomsInPrayer.org. \n 
URL:https://www.parksidecc.church/event/moms-in-prayer-2-2/2028-03-09/
LOCATION:Lacey’s House\, 210 N Michigan\, Argos\, IN\, United States
CATEGORIES:Women
ATTACH;FMTTYPE=image/png:https://www.parksidecc.church/wp-content/uploads/2024/03/MIP_Logo_1-01.png
END:VEVENT
BEGIN:VEVENT
DTSTART;TZID=America/Indiana/Indianapolis:20280309T180000
DTEND;TZID=America/Indiana/Indianapolis:20280309T200000
DTSTAMP:20260421T152613
CREATED:20250314T142229Z
LAST-MODIFIED:20250314T142229Z
UID:10001807-1836237600-1836244800@www.parksidecc.church
SUMMARY:Women's Bible Study
DESCRIPTION:Perfectly Flawed – Let’s find out how God can help us turn out weaknesses into strengths.
URL:https://www.parksidecc.church/event/womens-bible-study/2028-03-09/
CATEGORIES:Featured,Women
ATTACH;FMTTYPE=image/jpeg:https://www.parksidecc.church/wp-content/uploads/2025/03/women-s-bible-study_orig.jpg
END:VEVENT
BEGIN:VEVENT
DTSTART;TZID=America/Indiana/Indianapolis:20280316T171500
DTEND;TZID=America/Indiana/Indianapolis:20280316T190000
DTSTAMP:20260421T152613
CREATED:20250203T130703Z
LAST-MODIFIED:20250428T093925Z
UID:10002138-1836839700-1836846000@www.parksidecc.church
SUMMARY:Moms in Prayer
DESCRIPTION:Moms\, do you worry about your children? Come replace your anxiety and fear with peace and hope by praying with other women. Moms in Prayer gathers women together to pray specifically and scripturally for our children and their schools. Won’t you join with us in prayer for this next generation? Please contact Lacey DeWitt. For more information about Moms in Prayer\, visit MomsInPrayer.org. \n 
URL:https://www.parksidecc.church/event/moms-in-prayer-2-2/2028-03-16/
LOCATION:Lacey’s House\, 210 N Michigan\, Argos\, IN\, United States
CATEGORIES:Women
ATTACH;FMTTYPE=image/png:https://www.parksidecc.church/wp-content/uploads/2024/03/MIP_Logo_1-01.png
END:VEVENT
BEGIN:VEVENT
DTSTART;TZID=America/Indiana/Indianapolis:20280316T180000
DTEND;TZID=America/Indiana/Indianapolis:20280316T200000
DTSTAMP:20260421T152613
CREATED:20250314T142229Z
LAST-MODIFIED:20250314T142229Z
UID:10001808-1836842400-1836849600@www.parksidecc.church
SUMMARY:Women's Bible Study
DESCRIPTION:Perfectly Flawed – Let’s find out how God can help us turn out weaknesses into strengths.
URL:https://www.parksidecc.church/event/womens-bible-study/2028-03-16/
CATEGORIES:Featured,Women
ATTACH;FMTTYPE=image/jpeg:https://www.parksidecc.church/wp-content/uploads/2025/03/women-s-bible-study_orig.jpg
END:VEVENT
BEGIN:VEVENT
DTSTART;TZID=America/Indiana/Indianapolis:20280323T171500
DTEND;TZID=America/Indiana/Indianapolis:20280323T190000
DTSTAMP:20260421T152613
CREATED:20250203T130703Z
LAST-MODIFIED:20250428T093925Z
UID:10002139-1837444500-1837450800@www.parksidecc.church
SUMMARY:Moms in Prayer
DESCRIPTION:Moms\, do you worry about your children? Come replace your anxiety and fear with peace and hope by praying with other women. Moms in Prayer gathers women together to pray specifically and scripturally for our children and their schools. Won’t you join with us in prayer for this next generation? Please contact Lacey DeWitt. For more information about Moms in Prayer\, visit MomsInPrayer.org. \n 
URL:https://www.parksidecc.church/event/moms-in-prayer-2-2/2028-03-23/
LOCATION:Lacey’s House\, 210 N Michigan\, Argos\, IN\, United States
CATEGORIES:Women
ATTACH;FMTTYPE=image/png:https://www.parksidecc.church/wp-content/uploads/2024/03/MIP_Logo_1-01.png
END:VEVENT
BEGIN:VEVENT
DTSTART;TZID=America/Indiana/Indianapolis:20280323T180000
DTEND;TZID=America/Indiana/Indianapolis:20280323T200000
DTSTAMP:20260421T152613
CREATED:20250314T142229Z
LAST-MODIFIED:20250314T142229Z
UID:10001809-1837447200-1837454400@www.parksidecc.church
SUMMARY:Women's Bible Study
DESCRIPTION:Perfectly Flawed – Let’s find out how God can help us turn out weaknesses into strengths.
URL:https://www.parksidecc.church/event/womens-bible-study/2028-03-23/
CATEGORIES:Featured,Women
ATTACH;FMTTYPE=image/jpeg:https://www.parksidecc.church/wp-content/uploads/2025/03/women-s-bible-study_orig.jpg
END:VEVENT
BEGIN:VEVENT
DTSTART;TZID=America/Indiana/Indianapolis:20280330T171500
DTEND;TZID=America/Indiana/Indianapolis:20280330T190000
DTSTAMP:20260421T152613
CREATED:20250203T130703Z
LAST-MODIFIED:20250428T093925Z
UID:10002140-1838049300-1838055600@www.parksidecc.church
SUMMARY:Moms in Prayer
DESCRIPTION:Moms\, do you worry about your children? Come replace your anxiety and fear with peace and hope by praying with other women. Moms in Prayer gathers women together to pray specifically and scripturally for our children and their schools. Won’t you join with us in prayer for this next generation? Please contact Lacey DeWitt. For more information about Moms in Prayer\, visit MomsInPrayer.org. \n 
URL:https://www.parksidecc.church/event/moms-in-prayer-2-2/2028-03-30/
LOCATION:Lacey’s House\, 210 N Michigan\, Argos\, IN\, United States
CATEGORIES:Women
ATTACH;FMTTYPE=image/png:https://www.parksidecc.church/wp-content/uploads/2024/03/MIP_Logo_1-01.png
END:VEVENT
BEGIN:VEVENT
DTSTART;TZID=America/Indiana/Indianapolis:20280330T180000
DTEND;TZID=America/Indiana/Indianapolis:20280330T200000
DTSTAMP:20260421T152613
CREATED:20250314T142229Z
LAST-MODIFIED:20250314T142229Z
UID:10001810-1838052000-1838059200@www.parksidecc.church
SUMMARY:Women's Bible Study
DESCRIPTION:Perfectly Flawed – Let’s find out how God can help us turn out weaknesses into strengths.
URL:https://www.parksidecc.church/event/womens-bible-study/2028-03-30/
CATEGORIES:Featured,Women
ATTACH;FMTTYPE=image/jpeg:https://www.parksidecc.church/wp-content/uploads/2025/03/women-s-bible-study_orig.jpg
END:VEVENT
BEGIN:VEVENT
DTSTART;TZID=America/Indiana/Indianapolis:20280406T171500
DTEND;TZID=America/Indiana/Indianapolis:20280406T190000
DTSTAMP:20260421T152613
CREATED:20250203T130703Z
LAST-MODIFIED:20250428T093925Z
UID:10002141-1838654100-1838660400@www.parksidecc.church
SUMMARY:Moms in Prayer
DESCRIPTION:Moms\, do you worry about your children? Come replace your anxiety and fear with peace and hope by praying with other women. Moms in Prayer gathers women together to pray specifically and scripturally for our children and their schools. Won’t you join with us in prayer for this next generation? Please contact Lacey DeWitt. For more information about Moms in Prayer\, visit MomsInPrayer.org. \n 
URL:https://www.parksidecc.church/event/moms-in-prayer-2-2/2028-04-06/
LOCATION:Lacey’s House\, 210 N Michigan\, Argos\, IN\, United States
CATEGORIES:Women
ATTACH;FMTTYPE=image/png:https://www.parksidecc.church/wp-content/uploads/2024/03/MIP_Logo_1-01.png
END:VEVENT
BEGIN:VEVENT
DTSTART;TZID=America/Indiana/Indianapolis:20280406T180000
DTEND;TZID=America/Indiana/Indianapolis:20280406T200000
DTSTAMP:20260421T152613
CREATED:20250314T142229Z
LAST-MODIFIED:20250314T142229Z
UID:10001811-1838656800-1838664000@www.parksidecc.church
SUMMARY:Women's Bible Study
DESCRIPTION:Perfectly Flawed – Let’s find out how God can help us turn out weaknesses into strengths.
URL:https://www.parksidecc.church/event/womens-bible-study/2028-04-06/
CATEGORIES:Featured,Women
ATTACH;FMTTYPE=image/jpeg:https://www.parksidecc.church/wp-content/uploads/2025/03/women-s-bible-study_orig.jpg
END:VEVENT
BEGIN:VEVENT
DTSTART;TZID=America/Indiana/Indianapolis:20280413T171500
DTEND;TZID=America/Indiana/Indianapolis:20280413T190000
DTSTAMP:20260421T152613
CREATED:20250203T130703Z
LAST-MODIFIED:20250428T093925Z
UID:10002142-1839258900-1839265200@www.parksidecc.church
SUMMARY:Moms in Prayer
DESCRIPTION:Moms\, do you worry about your children? Come replace your anxiety and fear with peace and hope by praying with other women. Moms in Prayer gathers women together to pray specifically and scripturally for our children and their schools. Won’t you join with us in prayer for this next generation? Please contact Lacey DeWitt. For more information about Moms in Prayer\, visit MomsInPrayer.org. \n 
URL:https://www.parksidecc.church/event/moms-in-prayer-2-2/2028-04-13/
LOCATION:Lacey’s House\, 210 N Michigan\, Argos\, IN\, United States
CATEGORIES:Women
ATTACH;FMTTYPE=image/png:https://www.parksidecc.church/wp-content/uploads/2024/03/MIP_Logo_1-01.png
END:VEVENT
BEGIN:VEVENT
DTSTART;TZID=America/Indiana/Indianapolis:20280413T180000
DTEND;TZID=America/Indiana/Indianapolis:20280413T200000
DTSTAMP:20260421T152613
CREATED:20250314T142229Z
LAST-MODIFIED:20250314T142229Z
UID:10001812-1839261600-1839268800@www.parksidecc.church
SUMMARY:Women's Bible Study
DESCRIPTION:Perfectly Flawed – Let’s find out how God can help us turn out weaknesses into strengths.
URL:https://www.parksidecc.church/event/womens-bible-study/2028-04-13/
CATEGORIES:Featured,Women
ATTACH;FMTTYPE=image/jpeg:https://www.parksidecc.church/wp-content/uploads/2025/03/women-s-bible-study_orig.jpg
END:VEVENT
BEGIN:VEVENT
DTSTART;TZID=America/Indiana/Indianapolis:20280420T171500
DTEND;TZID=America/Indiana/Indianapolis:20280420T190000
DTSTAMP:20260421T152613
CREATED:20250203T130703Z
LAST-MODIFIED:20250428T093925Z
UID:10002143-1839863700-1839870000@www.parksidecc.church
SUMMARY:Moms in Prayer
DESCRIPTION:Moms\, do you worry about your children? Come replace your anxiety and fear with peace and hope by praying with other women. Moms in Prayer gathers women together to pray specifically and scripturally for our children and their schools. Won’t you join with us in prayer for this next generation? Please contact Lacey DeWitt. For more information about Moms in Prayer\, visit MomsInPrayer.org. \n 
URL:https://www.parksidecc.church/event/moms-in-prayer-2-2/2028-04-20/
LOCATION:Lacey’s House\, 210 N Michigan\, Argos\, IN\, United States
CATEGORIES:Women
ATTACH;FMTTYPE=image/png:https://www.parksidecc.church/wp-content/uploads/2024/03/MIP_Logo_1-01.png
END:VEVENT
BEGIN:VEVENT
DTSTART;TZID=America/Indiana/Indianapolis:20280420T180000
DTEND;TZID=America/Indiana/Indianapolis:20280420T200000
DTSTAMP:20260421T152613
CREATED:20250314T142229Z
LAST-MODIFIED:20250314T142229Z
UID:10001813-1839866400-1839873600@www.parksidecc.church
SUMMARY:Women's Bible Study
DESCRIPTION:Perfectly Flawed – Let’s find out how God can help us turn out weaknesses into strengths.
URL:https://www.parksidecc.church/event/womens-bible-study/2028-04-20/
CATEGORIES:Featured,Women
ATTACH;FMTTYPE=image/jpeg:https://www.parksidecc.church/wp-content/uploads/2025/03/women-s-bible-study_orig.jpg
END:VEVENT
BEGIN:VEVENT
DTSTART;TZID=America/Indiana/Indianapolis:20280427T171500
DTEND;TZID=America/Indiana/Indianapolis:20280427T190000
DTSTAMP:20260421T152613
CREATED:20250203T130703Z
LAST-MODIFIED:20250428T093925Z
UID:10002144-1840468500-1840474800@www.parksidecc.church
SUMMARY:Moms in Prayer
DESCRIPTION:Moms\, do you worry about your children? Come replace your anxiety and fear with peace and hope by praying with other women. Moms in Prayer gathers women together to pray specifically and scripturally for our children and their schools. Won’t you join with us in prayer for this next generation? Please contact Lacey DeWitt. For more information about Moms in Prayer\, visit MomsInPrayer.org. \n 
URL:https://www.parksidecc.church/event/moms-in-prayer-2-2/2028-04-27/
LOCATION:Lacey’s House\, 210 N Michigan\, Argos\, IN\, United States
CATEGORIES:Women
ATTACH;FMTTYPE=image/png:https://www.parksidecc.church/wp-content/uploads/2024/03/MIP_Logo_1-01.png
END:VEVENT
BEGIN:VEVENT
DTSTART;TZID=America/Indiana/Indianapolis:20280427T180000
DTEND;TZID=America/Indiana/Indianapolis:20280427T200000
DTSTAMP:20260421T152613
CREATED:20250314T142229Z
LAST-MODIFIED:20250314T142229Z
UID:10001814-1840471200-1840478400@www.parksidecc.church
SUMMARY:Women's Bible Study
DESCRIPTION:Perfectly Flawed – Let’s find out how God can help us turn out weaknesses into strengths.
URL:https://www.parksidecc.church/event/womens-bible-study/2028-04-27/
CATEGORIES:Featured,Women
ATTACH;FMTTYPE=image/jpeg:https://www.parksidecc.church/wp-content/uploads/2025/03/women-s-bible-study_orig.jpg
END:VEVENT
BEGIN:VEVENT
DTSTART;TZID=America/Indiana/Indianapolis:20280504T171500
DTEND;TZID=America/Indiana/Indianapolis:20280504T190000
DTSTAMP:20260421T152613
CREATED:20250203T130703Z
LAST-MODIFIED:20250428T093925Z
UID:10002145-1841073300-1841079600@www.parksidecc.church
SUMMARY:Moms in Prayer
DESCRIPTION:Moms\, do you worry about your children? Come replace your anxiety and fear with peace and hope by praying with other women. Moms in Prayer gathers women together to pray specifically and scripturally for our children and their schools. Won’t you join with us in prayer for this next generation? Please contact Lacey DeWitt. For more information about Moms in Prayer\, visit MomsInPrayer.org. \n 
URL:https://www.parksidecc.church/event/moms-in-prayer-2-2/2028-05-04/
LOCATION:Lacey’s House\, 210 N Michigan\, Argos\, IN\, United States
CATEGORIES:Women
ATTACH;FMTTYPE=image/png:https://www.parksidecc.church/wp-content/uploads/2024/03/MIP_Logo_1-01.png
END:VEVENT
BEGIN:VEVENT
DTSTART;TZID=America/Indiana/Indianapolis:20280504T180000
DTEND;TZID=America/Indiana/Indianapolis:20280504T200000
DTSTAMP:20260421T152613
CREATED:20250314T142229Z
LAST-MODIFIED:20250314T142229Z
UID:10001815-1841076000-1841083200@www.parksidecc.church
SUMMARY:Women's Bible Study
DESCRIPTION:Perfectly Flawed – Let’s find out how God can help us turn out weaknesses into strengths.
URL:https://www.parksidecc.church/event/womens-bible-study/2028-05-04/
CATEGORIES:Featured,Women
ATTACH;FMTTYPE=image/jpeg:https://www.parksidecc.church/wp-content/uploads/2025/03/women-s-bible-study_orig.jpg
END:VEVENT
BEGIN:VEVENT
DTSTART;TZID=America/Indiana/Indianapolis:20280511T171500
DTEND;TZID=America/Indiana/Indianapolis:20280511T190000
DTSTAMP:20260421T152613
CREATED:20250203T130703Z
LAST-MODIFIED:20250428T093925Z
UID:10002146-1841678100-1841684400@www.parksidecc.church
SUMMARY:Moms in Prayer
DESCRIPTION:Moms\, do you worry about your children? Come replace your anxiety and fear with peace and hope by praying with other women. Moms in Prayer gathers women together to pray specifically and scripturally for our children and their schools. Won’t you join with us in prayer for this next generation? Please contact Lacey DeWitt. For more information about Moms in Prayer\, visit MomsInPrayer.org. \n 
URL:https://www.parksidecc.church/event/moms-in-prayer-2-2/2028-05-11/
LOCATION:Lacey’s House\, 210 N Michigan\, Argos\, IN\, United States
CATEGORIES:Women
ATTACH;FMTTYPE=image/png:https://www.parksidecc.church/wp-content/uploads/2024/03/MIP_Logo_1-01.png
END:VEVENT
BEGIN:VEVENT
DTSTART;TZID=America/Indiana/Indianapolis:20280511T180000
DTEND;TZID=America/Indiana/Indianapolis:20280511T200000
DTSTAMP:20260421T152613
CREATED:20250314T142229Z
LAST-MODIFIED:20250314T142229Z
UID:10001816-1841680800-1841688000@www.parksidecc.church
SUMMARY:Women's Bible Study
DESCRIPTION:Perfectly Flawed – Let’s find out how God can help us turn out weaknesses into strengths.
URL:https://www.parksidecc.church/event/womens-bible-study/2028-05-11/
CATEGORIES:Featured,Women
ATTACH;FMTTYPE=image/jpeg:https://www.parksidecc.church/wp-content/uploads/2025/03/women-s-bible-study_orig.jpg
END:VEVENT
BEGIN:VEVENT
DTSTART;TZID=America/Indiana/Indianapolis:20280518T171500
DTEND;TZID=America/Indiana/Indianapolis:20280518T190000
DTSTAMP:20260421T152613
CREATED:20250203T130703Z
LAST-MODIFIED:20250428T093925Z
UID:10002147-1842282900-1842289200@www.parksidecc.church
SUMMARY:Moms in Prayer
DESCRIPTION:Moms\, do you worry about your children? Come replace your anxiety and fear with peace and hope by praying with other women. Moms in Prayer gathers women together to pray specifically and scripturally for our children and their schools. Won’t you join with us in prayer for this next generation? Please contact Lacey DeWitt. For more information about Moms in Prayer\, visit MomsInPrayer.org. \n 
URL:https://www.parksidecc.church/event/moms-in-prayer-2-2/2028-05-18/
LOCATION:Lacey’s House\, 210 N Michigan\, Argos\, IN\, United States
CATEGORIES:Women
ATTACH;FMTTYPE=image/png:https://www.parksidecc.church/wp-content/uploads/2024/03/MIP_Logo_1-01.png
END:VEVENT
BEGIN:VEVENT
DTSTART;TZID=America/Indiana/Indianapolis:20280518T180000
DTEND;TZID=America/Indiana/Indianapolis:20280518T200000
DTSTAMP:20260421T152613
CREATED:20250314T142229Z
LAST-MODIFIED:20250314T142229Z
UID:10001817-1842285600-1842292800@www.parksidecc.church
SUMMARY:Women's Bible Study
DESCRIPTION:Perfectly Flawed – Let’s find out how God can help us turn out weaknesses into strengths.
URL:https://www.parksidecc.church/event/womens-bible-study/2028-05-18/
CATEGORIES:Featured,Women
ATTACH;FMTTYPE=image/jpeg:https://www.parksidecc.church/wp-content/uploads/2025/03/women-s-bible-study_orig.jpg
END:VEVENT
BEGIN:VEVENT
DTSTART;TZID=America/Indiana/Indianapolis:20280525T171500
DTEND;TZID=America/Indiana/Indianapolis:20280525T190000
DTSTAMP:20260421T152613
CREATED:20250203T130703Z
LAST-MODIFIED:20250428T093925Z
UID:10002148-1842887700-1842894000@www.parksidecc.church
SUMMARY:Moms in Prayer
DESCRIPTION:Moms\, do you worry about your children? Come replace your anxiety and fear with peace and hope by praying with other women. Moms in Prayer gathers women together to pray specifically and scripturally for our children and their schools. Won’t you join with us in prayer for this next generation? Please contact Lacey DeWitt. For more information about Moms in Prayer\, visit MomsInPrayer.org. \n 
URL:https://www.parksidecc.church/event/moms-in-prayer-2-2/2028-05-25/
LOCATION:Lacey’s House\, 210 N Michigan\, Argos\, IN\, United States
CATEGORIES:Women
ATTACH;FMTTYPE=image/png:https://www.parksidecc.church/wp-content/uploads/2024/03/MIP_Logo_1-01.png
END:VEVENT
BEGIN:VEVENT
DTSTART;TZID=America/Indiana/Indianapolis:20280525T180000
DTEND;TZID=America/Indiana/Indianapolis:20280525T200000
DTSTAMP:20260421T152613
CREATED:20250314T142229Z
LAST-MODIFIED:20250314T142229Z
UID:10001818-1842890400-1842897600@www.parksidecc.church
SUMMARY:Women's Bible Study
DESCRIPTION:Perfectly Flawed – Let’s find out how God can help us turn out weaknesses into strengths.
URL:https://www.parksidecc.church/event/womens-bible-study/2028-05-25/
CATEGORIES:Featured,Women
ATTACH;FMTTYPE=image/jpeg:https://www.parksidecc.church/wp-content/uploads/2025/03/women-s-bible-study_orig.jpg
END:VEVENT
BEGIN:VEVENT
DTSTART;TZID=America/Indiana/Indianapolis:20280601T171500
DTEND;TZID=America/Indiana/Indianapolis:20280601T190000
DTSTAMP:20260421T152613
CREATED:20250203T130703Z
LAST-MODIFIED:20250428T093925Z
UID:10002149-1843492500-1843498800@www.parksidecc.church
SUMMARY:Moms in Prayer
DESCRIPTION:Moms\, do you worry about your children? Come replace your anxiety and fear with peace and hope by praying with other women. Moms in Prayer gathers women together to pray specifically and scripturally for our children and their schools. Won’t you join with us in prayer for this next generation? Please contact Lacey DeWitt. For more information about Moms in Prayer\, visit MomsInPrayer.org. \n 
URL:https://www.parksidecc.church/event/moms-in-prayer-2-2/2028-06-01/
LOCATION:Lacey’s House\, 210 N Michigan\, Argos\, IN\, United States
CATEGORIES:Women
ATTACH;FMTTYPE=image/png:https://www.parksidecc.church/wp-content/uploads/2024/03/MIP_Logo_1-01.png
END:VEVENT
BEGIN:VEVENT
DTSTART;TZID=America/Indiana/Indianapolis:20280601T180000
DTEND;TZID=America/Indiana/Indianapolis:20280601T200000
DTSTAMP:20260421T152613
CREATED:20250314T142229Z
LAST-MODIFIED:20250314T142229Z
UID:10001819-1843495200-1843502400@www.parksidecc.church
SUMMARY:Women's Bible Study
DESCRIPTION:Perfectly Flawed – Let’s find out how God can help us turn out weaknesses into strengths.
URL:https://www.parksidecc.church/event/womens-bible-study/2028-06-01/
CATEGORIES:Featured,Women
ATTACH;FMTTYPE=image/jpeg:https://www.parksidecc.church/wp-content/uploads/2025/03/women-s-bible-study_orig.jpg
END:VEVENT
BEGIN:VEVENT
DTSTART;TZID=America/Indiana/Indianapolis:20280608T171500
DTEND;TZID=America/Indiana/Indianapolis:20280608T190000
DTSTAMP:20260421T152613
CREATED:20250203T130703Z
LAST-MODIFIED:20250428T093925Z
UID:10002150-1844097300-1844103600@www.parksidecc.church
SUMMARY:Moms in Prayer
DESCRIPTION:Moms\, do you worry about your children? Come replace your anxiety and fear with peace and hope by praying with other women. Moms in Prayer gathers women together to pray specifically and scripturally for our children and their schools. Won’t you join with us in prayer for this next generation? Please contact Lacey DeWitt. For more information about Moms in Prayer\, visit MomsInPrayer.org. \n 
URL:https://www.parksidecc.church/event/moms-in-prayer-2-2/2028-06-08/
LOCATION:Lacey’s House\, 210 N Michigan\, Argos\, IN\, United States
CATEGORIES:Women
ATTACH;FMTTYPE=image/png:https://www.parksidecc.church/wp-content/uploads/2024/03/MIP_Logo_1-01.png
END:VEVENT
BEGIN:VEVENT
DTSTART;TZID=America/Indiana/Indianapolis:20280608T180000
DTEND;TZID=America/Indiana/Indianapolis:20280608T200000
DTSTAMP:20260421T152613
CREATED:20250314T142229Z
LAST-MODIFIED:20250314T142229Z
UID:10001820-1844100000-1844107200@www.parksidecc.church
SUMMARY:Women's Bible Study
DESCRIPTION:Perfectly Flawed – Let’s find out how God can help us turn out weaknesses into strengths.
URL:https://www.parksidecc.church/event/womens-bible-study/2028-06-08/
CATEGORIES:Featured,Women
ATTACH;FMTTYPE=image/jpeg:https://www.parksidecc.church/wp-content/uploads/2025/03/women-s-bible-study_orig.jpg
END:VEVENT
BEGIN:VEVENT
DTSTART;TZID=America/Indiana/Indianapolis:20280615T171500
DTEND;TZID=America/Indiana/Indianapolis:20280615T190000
DTSTAMP:20260421T152613
CREATED:20250203T130703Z
LAST-MODIFIED:20250428T093925Z
UID:10002151-1844702100-1844708400@www.parksidecc.church
SUMMARY:Moms in Prayer
DESCRIPTION:Moms\, do you worry about your children? Come replace your anxiety and fear with peace and hope by praying with other women. Moms in Prayer gathers women together to pray specifically and scripturally for our children and their schools. Won’t you join with us in prayer for this next generation? Please contact Lacey DeWitt. For more information about Moms in Prayer\, visit MomsInPrayer.org. \n 
URL:https://www.parksidecc.church/event/moms-in-prayer-2-2/2028-06-15/
LOCATION:Lacey’s House\, 210 N Michigan\, Argos\, IN\, United States
CATEGORIES:Women
ATTACH;FMTTYPE=image/png:https://www.parksidecc.church/wp-content/uploads/2024/03/MIP_Logo_1-01.png
END:VEVENT
BEGIN:VEVENT
DTSTART;TZID=America/Indiana/Indianapolis:20280615T180000
DTEND;TZID=America/Indiana/Indianapolis:20280615T200000
DTSTAMP:20260421T152613
CREATED:20250314T142229Z
LAST-MODIFIED:20250314T142229Z
UID:10001821-1844704800-1844712000@www.parksidecc.church
SUMMARY:Women's Bible Study
DESCRIPTION:Perfectly Flawed – Let’s find out how God can help us turn out weaknesses into strengths.
URL:https://www.parksidecc.church/event/womens-bible-study/2028-06-15/
CATEGORIES:Featured,Women
ATTACH;FMTTYPE=image/jpeg:https://www.parksidecc.church/wp-content/uploads/2025/03/women-s-bible-study_orig.jpg
END:VEVENT
END:VCALENDAR