BEGIN:VCALENDAR
VERSION:2.0
PRODID:-//Parkside Community Church - ECPv6.15.17.1//NONSGML v1.0//EN
CALSCALE:GREGORIAN
METHOD:PUBLISH
X-ORIGINAL-URL:https://www.parksidecc.church
X-WR-CALDESC:Events for Parkside Community Church
REFRESH-INTERVAL;VALUE=DURATION:PT1H
X-Robots-Tag:noindex
X-PUBLISHED-TTL:PT1H
BEGIN:VTIMEZONE
TZID:America/Indiana/Indianapolis
BEGIN:DAYLIGHT
TZOFFSETFROM:-0500
TZOFFSETTO:-0400
TZNAME:EDT
DTSTART:20260308T070000
END:DAYLIGHT
BEGIN:STANDARD
TZOFFSETFROM:-0400
TZOFFSETTO:-0500
TZNAME:EST
DTSTART:20261101T060000
END:STANDARD
BEGIN:DAYLIGHT
TZOFFSETFROM:-0500
TZOFFSETTO:-0400
TZNAME:EDT
DTSTART:20270314T070000
END:DAYLIGHT
BEGIN:STANDARD
TZOFFSETFROM:-0400
TZOFFSETTO:-0500
TZNAME:EST
DTSTART:20271107T060000
END:STANDARD
BEGIN:DAYLIGHT
TZOFFSETFROM:-0500
TZOFFSETTO:-0400
TZNAME:EDT
DTSTART:20280312T070000
END:DAYLIGHT
BEGIN:STANDARD
TZOFFSETFROM:-0400
TZOFFSETTO:-0500
TZNAME:EST
DTSTART:20281105T060000
END:STANDARD
BEGIN:DAYLIGHT
TZOFFSETFROM:-0500
TZOFFSETTO:-0400
TZNAME:EDT
DTSTART:20290311T070000
END:DAYLIGHT
BEGIN:STANDARD
TZOFFSETFROM:-0400
TZOFFSETTO:-0500
TZNAME:EST
DTSTART:20291104T060000
END:STANDARD
END:VTIMEZONE
BEGIN:VEVENT
DTSTART;TZID=America/Indiana/Indianapolis:20271125T171500
DTEND;TZID=America/Indiana/Indianapolis:20271125T190000
DTSTAMP:20260421T103052
CREATED:20250203T130703Z
LAST-MODIFIED:20250428T093925Z
UID:10002122-1827162900-1827169200@www.parksidecc.church
SUMMARY:Moms in Prayer
DESCRIPTION:Moms\, do you worry about your children? Come replace your anxiety and fear with peace and hope by praying with other women. Moms in Prayer gathers women together to pray specifically and scripturally for our children and their schools. Won’t you join with us in prayer for this next generation? Please contact Lacey DeWitt. For more information about Moms in Prayer\, visit MomsInPrayer.org. \n 
URL:https://www.parksidecc.church/event/moms-in-prayer-2-2/2027-11-25/
LOCATION:Lacey’s House\, 210 N Michigan\, Argos\, IN\, United States
CATEGORIES:Women
ATTACH;FMTTYPE=image/png:https://www.parksidecc.church/wp-content/uploads/2024/03/MIP_Logo_1-01.png
END:VEVENT
BEGIN:VEVENT
DTSTART;TZID=America/Indiana/Indianapolis:20271125T180000
DTEND;TZID=America/Indiana/Indianapolis:20271125T200000
DTSTAMP:20260421T103052
CREATED:20250314T142229Z
LAST-MODIFIED:20250314T142229Z
UID:10001792-1827165600-1827172800@www.parksidecc.church
SUMMARY:Women's Bible Study
DESCRIPTION:Perfectly Flawed – Let’s find out how God can help us turn out weaknesses into strengths.
URL:https://www.parksidecc.church/event/womens-bible-study/2027-11-25/
CATEGORIES:Featured,Women
ATTACH;FMTTYPE=image/jpeg:https://www.parksidecc.church/wp-content/uploads/2025/03/women-s-bible-study_orig.jpg
END:VEVENT
BEGIN:VEVENT
DTSTART;TZID=America/Indiana/Indianapolis:20271202T171500
DTEND;TZID=America/Indiana/Indianapolis:20271202T190000
DTSTAMP:20260421T103052
CREATED:20250203T130703Z
LAST-MODIFIED:20250428T093925Z
UID:10002123-1827767700-1827774000@www.parksidecc.church
SUMMARY:Moms in Prayer
DESCRIPTION:Moms\, do you worry about your children? Come replace your anxiety and fear with peace and hope by praying with other women. Moms in Prayer gathers women together to pray specifically and scripturally for our children and their schools. Won’t you join with us in prayer for this next generation? Please contact Lacey DeWitt. For more information about Moms in Prayer\, visit MomsInPrayer.org. \n 
URL:https://www.parksidecc.church/event/moms-in-prayer-2-2/2027-12-02/
LOCATION:Lacey’s House\, 210 N Michigan\, Argos\, IN\, United States
CATEGORIES:Women
ATTACH;FMTTYPE=image/png:https://www.parksidecc.church/wp-content/uploads/2024/03/MIP_Logo_1-01.png
END:VEVENT
BEGIN:VEVENT
DTSTART;TZID=America/Indiana/Indianapolis:20271202T180000
DTEND;TZID=America/Indiana/Indianapolis:20271202T200000
DTSTAMP:20260421T103052
CREATED:20250314T142229Z
LAST-MODIFIED:20250314T142229Z
UID:10001793-1827770400-1827777600@www.parksidecc.church
SUMMARY:Women's Bible Study
DESCRIPTION:Perfectly Flawed – Let’s find out how God can help us turn out weaknesses into strengths.
URL:https://www.parksidecc.church/event/womens-bible-study/2027-12-02/
CATEGORIES:Featured,Women
ATTACH;FMTTYPE=image/jpeg:https://www.parksidecc.church/wp-content/uploads/2025/03/women-s-bible-study_orig.jpg
END:VEVENT
BEGIN:VEVENT
DTSTART;TZID=America/Indiana/Indianapolis:20271209T171500
DTEND;TZID=America/Indiana/Indianapolis:20271209T190000
DTSTAMP:20260421T103052
CREATED:20250203T130703Z
LAST-MODIFIED:20250428T093925Z
UID:10002124-1828372500-1828378800@www.parksidecc.church
SUMMARY:Moms in Prayer
DESCRIPTION:Moms\, do you worry about your children? Come replace your anxiety and fear with peace and hope by praying with other women. Moms in Prayer gathers women together to pray specifically and scripturally for our children and their schools. Won’t you join with us in prayer for this next generation? Please contact Lacey DeWitt. For more information about Moms in Prayer\, visit MomsInPrayer.org. \n 
URL:https://www.parksidecc.church/event/moms-in-prayer-2-2/2027-12-09/
LOCATION:Lacey’s House\, 210 N Michigan\, Argos\, IN\, United States
CATEGORIES:Women
ATTACH;FMTTYPE=image/png:https://www.parksidecc.church/wp-content/uploads/2024/03/MIP_Logo_1-01.png
END:VEVENT
BEGIN:VEVENT
DTSTART;TZID=America/Indiana/Indianapolis:20271209T180000
DTEND;TZID=America/Indiana/Indianapolis:20271209T200000
DTSTAMP:20260421T103052
CREATED:20250314T142229Z
LAST-MODIFIED:20250314T142229Z
UID:10001794-1828375200-1828382400@www.parksidecc.church
SUMMARY:Women's Bible Study
DESCRIPTION:Perfectly Flawed – Let’s find out how God can help us turn out weaknesses into strengths.
URL:https://www.parksidecc.church/event/womens-bible-study/2027-12-09/
CATEGORIES:Featured,Women
ATTACH;FMTTYPE=image/jpeg:https://www.parksidecc.church/wp-content/uploads/2025/03/women-s-bible-study_orig.jpg
END:VEVENT
BEGIN:VEVENT
DTSTART;TZID=America/Indiana/Indianapolis:20271216T171500
DTEND;TZID=America/Indiana/Indianapolis:20271216T190000
DTSTAMP:20260421T103052
CREATED:20250203T130703Z
LAST-MODIFIED:20250428T093925Z
UID:10002125-1828977300-1828983600@www.parksidecc.church
SUMMARY:Moms in Prayer
DESCRIPTION:Moms\, do you worry about your children? Come replace your anxiety and fear with peace and hope by praying with other women. Moms in Prayer gathers women together to pray specifically and scripturally for our children and their schools. Won’t you join with us in prayer for this next generation? Please contact Lacey DeWitt. For more information about Moms in Prayer\, visit MomsInPrayer.org. \n 
URL:https://www.parksidecc.church/event/moms-in-prayer-2-2/2027-12-16/
LOCATION:Lacey’s House\, 210 N Michigan\, Argos\, IN\, United States
CATEGORIES:Women
ATTACH;FMTTYPE=image/png:https://www.parksidecc.church/wp-content/uploads/2024/03/MIP_Logo_1-01.png
END:VEVENT
BEGIN:VEVENT
DTSTART;TZID=America/Indiana/Indianapolis:20271216T180000
DTEND;TZID=America/Indiana/Indianapolis:20271216T200000
DTSTAMP:20260421T103052
CREATED:20250314T142229Z
LAST-MODIFIED:20250314T142229Z
UID:10001795-1828980000-1828987200@www.parksidecc.church
SUMMARY:Women's Bible Study
DESCRIPTION:Perfectly Flawed – Let’s find out how God can help us turn out weaknesses into strengths.
URL:https://www.parksidecc.church/event/womens-bible-study/2027-12-16/
CATEGORIES:Featured,Women
ATTACH;FMTTYPE=image/jpeg:https://www.parksidecc.church/wp-content/uploads/2025/03/women-s-bible-study_orig.jpg
END:VEVENT
BEGIN:VEVENT
DTSTART;TZID=America/Indiana/Indianapolis:20271223T171500
DTEND;TZID=America/Indiana/Indianapolis:20271223T190000
DTSTAMP:20260421T103052
CREATED:20250203T130703Z
LAST-MODIFIED:20250428T093925Z
UID:10002126-1829582100-1829588400@www.parksidecc.church
SUMMARY:Moms in Prayer
DESCRIPTION:Moms\, do you worry about your children? Come replace your anxiety and fear with peace and hope by praying with other women. Moms in Prayer gathers women together to pray specifically and scripturally for our children and their schools. Won’t you join with us in prayer for this next generation? Please contact Lacey DeWitt. For more information about Moms in Prayer\, visit MomsInPrayer.org. \n 
URL:https://www.parksidecc.church/event/moms-in-prayer-2-2/2027-12-23/
LOCATION:Lacey’s House\, 210 N Michigan\, Argos\, IN\, United States
CATEGORIES:Women
ATTACH;FMTTYPE=image/png:https://www.parksidecc.church/wp-content/uploads/2024/03/MIP_Logo_1-01.png
END:VEVENT
BEGIN:VEVENT
DTSTART;TZID=America/Indiana/Indianapolis:20271223T180000
DTEND;TZID=America/Indiana/Indianapolis:20271223T200000
DTSTAMP:20260421T103052
CREATED:20250314T142229Z
LAST-MODIFIED:20250314T142229Z
UID:10001796-1829584800-1829592000@www.parksidecc.church
SUMMARY:Women's Bible Study
DESCRIPTION:Perfectly Flawed – Let’s find out how God can help us turn out weaknesses into strengths.
URL:https://www.parksidecc.church/event/womens-bible-study/2027-12-23/
CATEGORIES:Featured,Women
ATTACH;FMTTYPE=image/jpeg:https://www.parksidecc.church/wp-content/uploads/2025/03/women-s-bible-study_orig.jpg
END:VEVENT
BEGIN:VEVENT
DTSTART;TZID=America/Indiana/Indianapolis:20271230T171500
DTEND;TZID=America/Indiana/Indianapolis:20271230T190000
DTSTAMP:20260421T103052
CREATED:20250203T130703Z
LAST-MODIFIED:20250428T093925Z
UID:10002127-1830186900-1830193200@www.parksidecc.church
SUMMARY:Moms in Prayer
DESCRIPTION:Moms\, do you worry about your children? Come replace your anxiety and fear with peace and hope by praying with other women. Moms in Prayer gathers women together to pray specifically and scripturally for our children and their schools. Won’t you join with us in prayer for this next generation? Please contact Lacey DeWitt. For more information about Moms in Prayer\, visit MomsInPrayer.org. \n 
URL:https://www.parksidecc.church/event/moms-in-prayer-2-2/2027-12-30/
LOCATION:Lacey’s House\, 210 N Michigan\, Argos\, IN\, United States
CATEGORIES:Women
ATTACH;FMTTYPE=image/png:https://www.parksidecc.church/wp-content/uploads/2024/03/MIP_Logo_1-01.png
END:VEVENT
BEGIN:VEVENT
DTSTART;TZID=America/Indiana/Indianapolis:20271230T180000
DTEND;TZID=America/Indiana/Indianapolis:20271230T200000
DTSTAMP:20260421T103052
CREATED:20250314T142229Z
LAST-MODIFIED:20250314T142229Z
UID:10001797-1830189600-1830196800@www.parksidecc.church
SUMMARY:Women's Bible Study
DESCRIPTION:Perfectly Flawed – Let’s find out how God can help us turn out weaknesses into strengths.
URL:https://www.parksidecc.church/event/womens-bible-study/2027-12-30/
CATEGORIES:Featured,Women
ATTACH;FMTTYPE=image/jpeg:https://www.parksidecc.church/wp-content/uploads/2025/03/women-s-bible-study_orig.jpg
END:VEVENT
BEGIN:VEVENT
DTSTART;TZID=America/Indiana/Indianapolis:20280106T171500
DTEND;TZID=America/Indiana/Indianapolis:20280106T190000
DTSTAMP:20260421T103052
CREATED:20250203T130703Z
LAST-MODIFIED:20250428T093925Z
UID:10002128-1830791700-1830798000@www.parksidecc.church
SUMMARY:Moms in Prayer
DESCRIPTION:Moms\, do you worry about your children? Come replace your anxiety and fear with peace and hope by praying with other women. Moms in Prayer gathers women together to pray specifically and scripturally for our children and their schools. Won’t you join with us in prayer for this next generation? Please contact Lacey DeWitt. For more information about Moms in Prayer\, visit MomsInPrayer.org. \n 
URL:https://www.parksidecc.church/event/moms-in-prayer-2-2/2028-01-06/
LOCATION:Lacey’s House\, 210 N Michigan\, Argos\, IN\, United States
CATEGORIES:Women
ATTACH;FMTTYPE=image/png:https://www.parksidecc.church/wp-content/uploads/2024/03/MIP_Logo_1-01.png
END:VEVENT
BEGIN:VEVENT
DTSTART;TZID=America/Indiana/Indianapolis:20280106T180000
DTEND;TZID=America/Indiana/Indianapolis:20280106T200000
DTSTAMP:20260421T103052
CREATED:20250314T142229Z
LAST-MODIFIED:20250314T142229Z
UID:10001798-1830794400-1830801600@www.parksidecc.church
SUMMARY:Women's Bible Study
DESCRIPTION:Perfectly Flawed – Let’s find out how God can help us turn out weaknesses into strengths.
URL:https://www.parksidecc.church/event/womens-bible-study/2028-01-06/
CATEGORIES:Featured,Women
ATTACH;FMTTYPE=image/jpeg:https://www.parksidecc.church/wp-content/uploads/2025/03/women-s-bible-study_orig.jpg
END:VEVENT
BEGIN:VEVENT
DTSTART;TZID=America/Indiana/Indianapolis:20280113T171500
DTEND;TZID=America/Indiana/Indianapolis:20280113T190000
DTSTAMP:20260421T103052
CREATED:20250203T130703Z
LAST-MODIFIED:20250428T093925Z
UID:10002129-1831396500-1831402800@www.parksidecc.church
SUMMARY:Moms in Prayer
DESCRIPTION:Moms\, do you worry about your children? Come replace your anxiety and fear with peace and hope by praying with other women. Moms in Prayer gathers women together to pray specifically and scripturally for our children and their schools. Won’t you join with us in prayer for this next generation? Please contact Lacey DeWitt. For more information about Moms in Prayer\, visit MomsInPrayer.org. \n 
URL:https://www.parksidecc.church/event/moms-in-prayer-2-2/2028-01-13/
LOCATION:Lacey’s House\, 210 N Michigan\, Argos\, IN\, United States
CATEGORIES:Women
ATTACH;FMTTYPE=image/png:https://www.parksidecc.church/wp-content/uploads/2024/03/MIP_Logo_1-01.png
END:VEVENT
BEGIN:VEVENT
DTSTART;TZID=America/Indiana/Indianapolis:20280113T180000
DTEND;TZID=America/Indiana/Indianapolis:20280113T200000
DTSTAMP:20260421T103052
CREATED:20250314T142229Z
LAST-MODIFIED:20250314T142229Z
UID:10001799-1831399200-1831406400@www.parksidecc.church
SUMMARY:Women's Bible Study
DESCRIPTION:Perfectly Flawed – Let’s find out how God can help us turn out weaknesses into strengths.
URL:https://www.parksidecc.church/event/womens-bible-study/2028-01-13/
CATEGORIES:Featured,Women
ATTACH;FMTTYPE=image/jpeg:https://www.parksidecc.church/wp-content/uploads/2025/03/women-s-bible-study_orig.jpg
END:VEVENT
BEGIN:VEVENT
DTSTART;TZID=America/Indiana/Indianapolis:20280120T171500
DTEND;TZID=America/Indiana/Indianapolis:20280120T190000
DTSTAMP:20260421T103052
CREATED:20250203T130703Z
LAST-MODIFIED:20250428T093925Z
UID:10002130-1832001300-1832007600@www.parksidecc.church
SUMMARY:Moms in Prayer
DESCRIPTION:Moms\, do you worry about your children? Come replace your anxiety and fear with peace and hope by praying with other women. Moms in Prayer gathers women together to pray specifically and scripturally for our children and their schools. Won’t you join with us in prayer for this next generation? Please contact Lacey DeWitt. For more information about Moms in Prayer\, visit MomsInPrayer.org. \n 
URL:https://www.parksidecc.church/event/moms-in-prayer-2-2/2028-01-20/
LOCATION:Lacey’s House\, 210 N Michigan\, Argos\, IN\, United States
CATEGORIES:Women
ATTACH;FMTTYPE=image/png:https://www.parksidecc.church/wp-content/uploads/2024/03/MIP_Logo_1-01.png
END:VEVENT
BEGIN:VEVENT
DTSTART;TZID=America/Indiana/Indianapolis:20280120T180000
DTEND;TZID=America/Indiana/Indianapolis:20280120T200000
DTSTAMP:20260421T103052
CREATED:20250314T142229Z
LAST-MODIFIED:20250314T142229Z
UID:10001800-1832004000-1832011200@www.parksidecc.church
SUMMARY:Women's Bible Study
DESCRIPTION:Perfectly Flawed – Let’s find out how God can help us turn out weaknesses into strengths.
URL:https://www.parksidecc.church/event/womens-bible-study/2028-01-20/
CATEGORIES:Featured,Women
ATTACH;FMTTYPE=image/jpeg:https://www.parksidecc.church/wp-content/uploads/2025/03/women-s-bible-study_orig.jpg
END:VEVENT
BEGIN:VEVENT
DTSTART;TZID=America/Indiana/Indianapolis:20280127T171500
DTEND;TZID=America/Indiana/Indianapolis:20280127T190000
DTSTAMP:20260421T103052
CREATED:20250203T130703Z
LAST-MODIFIED:20250428T093925Z
UID:10002131-1832606100-1832612400@www.parksidecc.church
SUMMARY:Moms in Prayer
DESCRIPTION:Moms\, do you worry about your children? Come replace your anxiety and fear with peace and hope by praying with other women. Moms in Prayer gathers women together to pray specifically and scripturally for our children and their schools. Won’t you join with us in prayer for this next generation? Please contact Lacey DeWitt. For more information about Moms in Prayer\, visit MomsInPrayer.org. \n 
URL:https://www.parksidecc.church/event/moms-in-prayer-2-2/2028-01-27/
LOCATION:Lacey’s House\, 210 N Michigan\, Argos\, IN\, United States
CATEGORIES:Women
ATTACH;FMTTYPE=image/png:https://www.parksidecc.church/wp-content/uploads/2024/03/MIP_Logo_1-01.png
END:VEVENT
BEGIN:VEVENT
DTSTART;TZID=America/Indiana/Indianapolis:20280127T180000
DTEND;TZID=America/Indiana/Indianapolis:20280127T200000
DTSTAMP:20260421T103052
CREATED:20250314T142229Z
LAST-MODIFIED:20250314T142229Z
UID:10001801-1832608800-1832616000@www.parksidecc.church
SUMMARY:Women's Bible Study
DESCRIPTION:Perfectly Flawed – Let’s find out how God can help us turn out weaknesses into strengths.
URL:https://www.parksidecc.church/event/womens-bible-study/2028-01-27/
CATEGORIES:Featured,Women
ATTACH;FMTTYPE=image/jpeg:https://www.parksidecc.church/wp-content/uploads/2025/03/women-s-bible-study_orig.jpg
END:VEVENT
BEGIN:VEVENT
DTSTART;TZID=America/Indiana/Indianapolis:20280203T171500
DTEND;TZID=America/Indiana/Indianapolis:20280203T190000
DTSTAMP:20260421T103052
CREATED:20250203T130703Z
LAST-MODIFIED:20250428T093925Z
UID:10002132-1833210900-1833217200@www.parksidecc.church
SUMMARY:Moms in Prayer
DESCRIPTION:Moms\, do you worry about your children? Come replace your anxiety and fear with peace and hope by praying with other women. Moms in Prayer gathers women together to pray specifically and scripturally for our children and their schools. Won’t you join with us in prayer for this next generation? Please contact Lacey DeWitt. For more information about Moms in Prayer\, visit MomsInPrayer.org. \n 
URL:https://www.parksidecc.church/event/moms-in-prayer-2-2/2028-02-03/
LOCATION:Lacey’s House\, 210 N Michigan\, Argos\, IN\, United States
CATEGORIES:Women
ATTACH;FMTTYPE=image/png:https://www.parksidecc.church/wp-content/uploads/2024/03/MIP_Logo_1-01.png
END:VEVENT
BEGIN:VEVENT
DTSTART;TZID=America/Indiana/Indianapolis:20280203T180000
DTEND;TZID=America/Indiana/Indianapolis:20280203T200000
DTSTAMP:20260421T103052
CREATED:20250314T142229Z
LAST-MODIFIED:20250314T142229Z
UID:10001802-1833213600-1833220800@www.parksidecc.church
SUMMARY:Women's Bible Study
DESCRIPTION:Perfectly Flawed – Let’s find out how God can help us turn out weaknesses into strengths.
URL:https://www.parksidecc.church/event/womens-bible-study/2028-02-03/
CATEGORIES:Featured,Women
ATTACH;FMTTYPE=image/jpeg:https://www.parksidecc.church/wp-content/uploads/2025/03/women-s-bible-study_orig.jpg
END:VEVENT
BEGIN:VEVENT
DTSTART;TZID=America/Indiana/Indianapolis:20280210T171500
DTEND;TZID=America/Indiana/Indianapolis:20280210T190000
DTSTAMP:20260421T103052
CREATED:20250203T130703Z
LAST-MODIFIED:20250428T093925Z
UID:10002133-1833815700-1833822000@www.parksidecc.church
SUMMARY:Moms in Prayer
DESCRIPTION:Moms\, do you worry about your children? Come replace your anxiety and fear with peace and hope by praying with other women. Moms in Prayer gathers women together to pray specifically and scripturally for our children and their schools. Won’t you join with us in prayer for this next generation? Please contact Lacey DeWitt. For more information about Moms in Prayer\, visit MomsInPrayer.org. \n 
URL:https://www.parksidecc.church/event/moms-in-prayer-2-2/2028-02-10/
LOCATION:Lacey’s House\, 210 N Michigan\, Argos\, IN\, United States
CATEGORIES:Women
ATTACH;FMTTYPE=image/png:https://www.parksidecc.church/wp-content/uploads/2024/03/MIP_Logo_1-01.png
END:VEVENT
BEGIN:VEVENT
DTSTART;TZID=America/Indiana/Indianapolis:20280210T180000
DTEND;TZID=America/Indiana/Indianapolis:20280210T200000
DTSTAMP:20260421T103052
CREATED:20250314T142229Z
LAST-MODIFIED:20250314T142229Z
UID:10001803-1833818400-1833825600@www.parksidecc.church
SUMMARY:Women's Bible Study
DESCRIPTION:Perfectly Flawed – Let’s find out how God can help us turn out weaknesses into strengths.
URL:https://www.parksidecc.church/event/womens-bible-study/2028-02-10/
CATEGORIES:Featured,Women
ATTACH;FMTTYPE=image/jpeg:https://www.parksidecc.church/wp-content/uploads/2025/03/women-s-bible-study_orig.jpg
END:VEVENT
BEGIN:VEVENT
DTSTART;TZID=America/Indiana/Indianapolis:20280217T171500
DTEND;TZID=America/Indiana/Indianapolis:20280217T190000
DTSTAMP:20260421T103052
CREATED:20250203T130703Z
LAST-MODIFIED:20250428T093925Z
UID:10002134-1834420500-1834426800@www.parksidecc.church
SUMMARY:Moms in Prayer
DESCRIPTION:Moms\, do you worry about your children? Come replace your anxiety and fear with peace and hope by praying with other women. Moms in Prayer gathers women together to pray specifically and scripturally for our children and their schools. Won’t you join with us in prayer for this next generation? Please contact Lacey DeWitt. For more information about Moms in Prayer\, visit MomsInPrayer.org. \n 
URL:https://www.parksidecc.church/event/moms-in-prayer-2-2/2028-02-17/
LOCATION:Lacey’s House\, 210 N Michigan\, Argos\, IN\, United States
CATEGORIES:Women
ATTACH;FMTTYPE=image/png:https://www.parksidecc.church/wp-content/uploads/2024/03/MIP_Logo_1-01.png
END:VEVENT
BEGIN:VEVENT
DTSTART;TZID=America/Indiana/Indianapolis:20280217T180000
DTEND;TZID=America/Indiana/Indianapolis:20280217T200000
DTSTAMP:20260421T103052
CREATED:20250314T142229Z
LAST-MODIFIED:20250314T142229Z
UID:10001804-1834423200-1834430400@www.parksidecc.church
SUMMARY:Women's Bible Study
DESCRIPTION:Perfectly Flawed – Let’s find out how God can help us turn out weaknesses into strengths.
URL:https://www.parksidecc.church/event/womens-bible-study/2028-02-17/
CATEGORIES:Featured,Women
ATTACH;FMTTYPE=image/jpeg:https://www.parksidecc.church/wp-content/uploads/2025/03/women-s-bible-study_orig.jpg
END:VEVENT
BEGIN:VEVENT
DTSTART;TZID=America/Indiana/Indianapolis:20280224T171500
DTEND;TZID=America/Indiana/Indianapolis:20280224T190000
DTSTAMP:20260421T103052
CREATED:20250203T130703Z
LAST-MODIFIED:20250428T093925Z
UID:10002135-1835025300-1835031600@www.parksidecc.church
SUMMARY:Moms in Prayer
DESCRIPTION:Moms\, do you worry about your children? Come replace your anxiety and fear with peace and hope by praying with other women. Moms in Prayer gathers women together to pray specifically and scripturally for our children and their schools. Won’t you join with us in prayer for this next generation? Please contact Lacey DeWitt. For more information about Moms in Prayer\, visit MomsInPrayer.org. \n 
URL:https://www.parksidecc.church/event/moms-in-prayer-2-2/2028-02-24/
LOCATION:Lacey’s House\, 210 N Michigan\, Argos\, IN\, United States
CATEGORIES:Women
ATTACH;FMTTYPE=image/png:https://www.parksidecc.church/wp-content/uploads/2024/03/MIP_Logo_1-01.png
END:VEVENT
BEGIN:VEVENT
DTSTART;TZID=America/Indiana/Indianapolis:20280224T180000
DTEND;TZID=America/Indiana/Indianapolis:20280224T200000
DTSTAMP:20260421T103052
CREATED:20250314T142229Z
LAST-MODIFIED:20250314T142229Z
UID:10001805-1835028000-1835035200@www.parksidecc.church
SUMMARY:Women's Bible Study
DESCRIPTION:Perfectly Flawed – Let’s find out how God can help us turn out weaknesses into strengths.
URL:https://www.parksidecc.church/event/womens-bible-study/2028-02-24/
CATEGORIES:Featured,Women
ATTACH;FMTTYPE=image/jpeg:https://www.parksidecc.church/wp-content/uploads/2025/03/women-s-bible-study_orig.jpg
END:VEVENT
BEGIN:VEVENT
DTSTART;TZID=America/Indiana/Indianapolis:20280302T171500
DTEND;TZID=America/Indiana/Indianapolis:20280302T190000
DTSTAMP:20260421T103052
CREATED:20250203T130703Z
LAST-MODIFIED:20250428T093925Z
UID:10002136-1835630100-1835636400@www.parksidecc.church
SUMMARY:Moms in Prayer
DESCRIPTION:Moms\, do you worry about your children? Come replace your anxiety and fear with peace and hope by praying with other women. Moms in Prayer gathers women together to pray specifically and scripturally for our children and their schools. Won’t you join with us in prayer for this next generation? Please contact Lacey DeWitt. For more information about Moms in Prayer\, visit MomsInPrayer.org. \n 
URL:https://www.parksidecc.church/event/moms-in-prayer-2-2/2028-03-02/
LOCATION:Lacey’s House\, 210 N Michigan\, Argos\, IN\, United States
CATEGORIES:Women
ATTACH;FMTTYPE=image/png:https://www.parksidecc.church/wp-content/uploads/2024/03/MIP_Logo_1-01.png
END:VEVENT
BEGIN:VEVENT
DTSTART;TZID=America/Indiana/Indianapolis:20280302T180000
DTEND;TZID=America/Indiana/Indianapolis:20280302T200000
DTSTAMP:20260421T103052
CREATED:20250314T142229Z
LAST-MODIFIED:20250314T142229Z
UID:10001806-1835632800-1835640000@www.parksidecc.church
SUMMARY:Women's Bible Study
DESCRIPTION:Perfectly Flawed – Let’s find out how God can help us turn out weaknesses into strengths.
URL:https://www.parksidecc.church/event/womens-bible-study/2028-03-02/
CATEGORIES:Featured,Women
ATTACH;FMTTYPE=image/jpeg:https://www.parksidecc.church/wp-content/uploads/2025/03/women-s-bible-study_orig.jpg
END:VEVENT
END:VCALENDAR