BEGIN:VCALENDAR
VERSION:2.0
PRODID:-//Parkside Community Church - ECPv6.15.17.1//NONSGML v1.0//EN
CALSCALE:GREGORIAN
METHOD:PUBLISH
X-ORIGINAL-URL:https://www.parksidecc.church
X-WR-CALDESC:Events for Parkside Community Church
REFRESH-INTERVAL;VALUE=DURATION:PT1H
X-Robots-Tag:noindex
X-PUBLISHED-TTL:PT1H
BEGIN:VTIMEZONE
TZID:America/Indiana/Indianapolis
BEGIN:DAYLIGHT
TZOFFSETFROM:-0500
TZOFFSETTO:-0400
TZNAME:EDT
DTSTART:20260308T070000
END:DAYLIGHT
BEGIN:STANDARD
TZOFFSETFROM:-0400
TZOFFSETTO:-0500
TZNAME:EST
DTSTART:20261101T060000
END:STANDARD
BEGIN:DAYLIGHT
TZOFFSETFROM:-0500
TZOFFSETTO:-0400
TZNAME:EDT
DTSTART:20270314T070000
END:DAYLIGHT
BEGIN:STANDARD
TZOFFSETFROM:-0400
TZOFFSETTO:-0500
TZNAME:EST
DTSTART:20271107T060000
END:STANDARD
BEGIN:DAYLIGHT
TZOFFSETFROM:-0500
TZOFFSETTO:-0400
TZNAME:EDT
DTSTART:20280312T070000
END:DAYLIGHT
BEGIN:STANDARD
TZOFFSETFROM:-0400
TZOFFSETTO:-0500
TZNAME:EST
DTSTART:20281105T060000
END:STANDARD
END:VTIMEZONE
BEGIN:VEVENT
DTSTART;TZID=America/Indiana/Indianapolis:20270826T171500
DTEND;TZID=America/Indiana/Indianapolis:20270826T190000
DTSTAMP:20260421T071505
CREATED:20250203T130703Z
LAST-MODIFIED:20250428T093925Z
UID:10002109-1819300500-1819306800@www.parksidecc.church
SUMMARY:Moms in Prayer
DESCRIPTION:Moms\, do you worry about your children? Come replace your anxiety and fear with peace and hope by praying with other women. Moms in Prayer gathers women together to pray specifically and scripturally for our children and their schools. Won’t you join with us in prayer for this next generation? Please contact Lacey DeWitt. For more information about Moms in Prayer\, visit MomsInPrayer.org. \n 
URL:https://www.parksidecc.church/event/moms-in-prayer-2-2/2027-08-26/
LOCATION:Lacey’s House\, 210 N Michigan\, Argos\, IN\, United States
CATEGORIES:Women
ATTACH;FMTTYPE=image/png:https://www.parksidecc.church/wp-content/uploads/2024/03/MIP_Logo_1-01.png
END:VEVENT
BEGIN:VEVENT
DTSTART;TZID=America/Indiana/Indianapolis:20270826T180000
DTEND;TZID=America/Indiana/Indianapolis:20270826T200000
DTSTAMP:20260421T071505
CREATED:20250314T142229Z
LAST-MODIFIED:20250314T142229Z
UID:10001779-1819303200-1819310400@www.parksidecc.church
SUMMARY:Women's Bible Study
DESCRIPTION:Perfectly Flawed – Let’s find out how God can help us turn out weaknesses into strengths.
URL:https://www.parksidecc.church/event/womens-bible-study/2027-08-26/
CATEGORIES:Featured,Women
ATTACH;FMTTYPE=image/jpeg:https://www.parksidecc.church/wp-content/uploads/2025/03/women-s-bible-study_orig.jpg
END:VEVENT
BEGIN:VEVENT
DTSTART;TZID=America/Indiana/Indianapolis:20270902T171500
DTEND;TZID=America/Indiana/Indianapolis:20270902T190000
DTSTAMP:20260421T071505
CREATED:20250203T130703Z
LAST-MODIFIED:20250428T093925Z
UID:10002110-1819905300-1819911600@www.parksidecc.church
SUMMARY:Moms in Prayer
DESCRIPTION:Moms\, do you worry about your children? Come replace your anxiety and fear with peace and hope by praying with other women. Moms in Prayer gathers women together to pray specifically and scripturally for our children and their schools. Won’t you join with us in prayer for this next generation? Please contact Lacey DeWitt. For more information about Moms in Prayer\, visit MomsInPrayer.org. \n 
URL:https://www.parksidecc.church/event/moms-in-prayer-2-2/2027-09-02/
LOCATION:Lacey’s House\, 210 N Michigan\, Argos\, IN\, United States
CATEGORIES:Women
ATTACH;FMTTYPE=image/png:https://www.parksidecc.church/wp-content/uploads/2024/03/MIP_Logo_1-01.png
END:VEVENT
BEGIN:VEVENT
DTSTART;TZID=America/Indiana/Indianapolis:20270902T180000
DTEND;TZID=America/Indiana/Indianapolis:20270902T200000
DTSTAMP:20260421T071505
CREATED:20250314T142229Z
LAST-MODIFIED:20250314T142229Z
UID:10001780-1819908000-1819915200@www.parksidecc.church
SUMMARY:Women's Bible Study
DESCRIPTION:Perfectly Flawed – Let’s find out how God can help us turn out weaknesses into strengths.
URL:https://www.parksidecc.church/event/womens-bible-study/2027-09-02/
CATEGORIES:Featured,Women
ATTACH;FMTTYPE=image/jpeg:https://www.parksidecc.church/wp-content/uploads/2025/03/women-s-bible-study_orig.jpg
END:VEVENT
BEGIN:VEVENT
DTSTART;TZID=America/Indiana/Indianapolis:20270909T171500
DTEND;TZID=America/Indiana/Indianapolis:20270909T190000
DTSTAMP:20260421T071505
CREATED:20250203T130703Z
LAST-MODIFIED:20250428T093925Z
UID:10002111-1820510100-1820516400@www.parksidecc.church
SUMMARY:Moms in Prayer
DESCRIPTION:Moms\, do you worry about your children? Come replace your anxiety and fear with peace and hope by praying with other women. Moms in Prayer gathers women together to pray specifically and scripturally for our children and their schools. Won’t you join with us in prayer for this next generation? Please contact Lacey DeWitt. For more information about Moms in Prayer\, visit MomsInPrayer.org. \n 
URL:https://www.parksidecc.church/event/moms-in-prayer-2-2/2027-09-09/
LOCATION:Lacey’s House\, 210 N Michigan\, Argos\, IN\, United States
CATEGORIES:Women
ATTACH;FMTTYPE=image/png:https://www.parksidecc.church/wp-content/uploads/2024/03/MIP_Logo_1-01.png
END:VEVENT
BEGIN:VEVENT
DTSTART;TZID=America/Indiana/Indianapolis:20270909T180000
DTEND;TZID=America/Indiana/Indianapolis:20270909T200000
DTSTAMP:20260421T071505
CREATED:20250314T142229Z
LAST-MODIFIED:20250314T142229Z
UID:10001781-1820512800-1820520000@www.parksidecc.church
SUMMARY:Women's Bible Study
DESCRIPTION:Perfectly Flawed – Let’s find out how God can help us turn out weaknesses into strengths.
URL:https://www.parksidecc.church/event/womens-bible-study/2027-09-09/
CATEGORIES:Featured,Women
ATTACH;FMTTYPE=image/jpeg:https://www.parksidecc.church/wp-content/uploads/2025/03/women-s-bible-study_orig.jpg
END:VEVENT
BEGIN:VEVENT
DTSTART;TZID=America/Indiana/Indianapolis:20270916T171500
DTEND;TZID=America/Indiana/Indianapolis:20270916T190000
DTSTAMP:20260421T071505
CREATED:20250203T130703Z
LAST-MODIFIED:20250428T093925Z
UID:10002112-1821114900-1821121200@www.parksidecc.church
SUMMARY:Moms in Prayer
DESCRIPTION:Moms\, do you worry about your children? Come replace your anxiety and fear with peace and hope by praying with other women. Moms in Prayer gathers women together to pray specifically and scripturally for our children and their schools. Won’t you join with us in prayer for this next generation? Please contact Lacey DeWitt. For more information about Moms in Prayer\, visit MomsInPrayer.org. \n 
URL:https://www.parksidecc.church/event/moms-in-prayer-2-2/2027-09-16/
LOCATION:Lacey’s House\, 210 N Michigan\, Argos\, IN\, United States
CATEGORIES:Women
ATTACH;FMTTYPE=image/png:https://www.parksidecc.church/wp-content/uploads/2024/03/MIP_Logo_1-01.png
END:VEVENT
BEGIN:VEVENT
DTSTART;TZID=America/Indiana/Indianapolis:20270916T180000
DTEND;TZID=America/Indiana/Indianapolis:20270916T200000
DTSTAMP:20260421T071505
CREATED:20250314T142229Z
LAST-MODIFIED:20250314T142229Z
UID:10001782-1821117600-1821124800@www.parksidecc.church
SUMMARY:Women's Bible Study
DESCRIPTION:Perfectly Flawed – Let’s find out how God can help us turn out weaknesses into strengths.
URL:https://www.parksidecc.church/event/womens-bible-study/2027-09-16/
CATEGORIES:Featured,Women
ATTACH;FMTTYPE=image/jpeg:https://www.parksidecc.church/wp-content/uploads/2025/03/women-s-bible-study_orig.jpg
END:VEVENT
BEGIN:VEVENT
DTSTART;TZID=America/Indiana/Indianapolis:20270923T171500
DTEND;TZID=America/Indiana/Indianapolis:20270923T190000
DTSTAMP:20260421T071505
CREATED:20250203T130703Z
LAST-MODIFIED:20250428T093925Z
UID:10002113-1821719700-1821726000@www.parksidecc.church
SUMMARY:Moms in Prayer
DESCRIPTION:Moms\, do you worry about your children? Come replace your anxiety and fear with peace and hope by praying with other women. Moms in Prayer gathers women together to pray specifically and scripturally for our children and their schools. Won’t you join with us in prayer for this next generation? Please contact Lacey DeWitt. For more information about Moms in Prayer\, visit MomsInPrayer.org. \n 
URL:https://www.parksidecc.church/event/moms-in-prayer-2-2/2027-09-23/
LOCATION:Lacey’s House\, 210 N Michigan\, Argos\, IN\, United States
CATEGORIES:Women
ATTACH;FMTTYPE=image/png:https://www.parksidecc.church/wp-content/uploads/2024/03/MIP_Logo_1-01.png
END:VEVENT
BEGIN:VEVENT
DTSTART;TZID=America/Indiana/Indianapolis:20270923T180000
DTEND;TZID=America/Indiana/Indianapolis:20270923T200000
DTSTAMP:20260421T071505
CREATED:20250314T142229Z
LAST-MODIFIED:20250314T142229Z
UID:10001783-1821722400-1821729600@www.parksidecc.church
SUMMARY:Women's Bible Study
DESCRIPTION:Perfectly Flawed – Let’s find out how God can help us turn out weaknesses into strengths.
URL:https://www.parksidecc.church/event/womens-bible-study/2027-09-23/
CATEGORIES:Featured,Women
ATTACH;FMTTYPE=image/jpeg:https://www.parksidecc.church/wp-content/uploads/2025/03/women-s-bible-study_orig.jpg
END:VEVENT
BEGIN:VEVENT
DTSTART;TZID=America/Indiana/Indianapolis:20270930T171500
DTEND;TZID=America/Indiana/Indianapolis:20270930T190000
DTSTAMP:20260421T071505
CREATED:20250203T130703Z
LAST-MODIFIED:20250428T093925Z
UID:10002114-1822324500-1822330800@www.parksidecc.church
SUMMARY:Moms in Prayer
DESCRIPTION:Moms\, do you worry about your children? Come replace your anxiety and fear with peace and hope by praying with other women. Moms in Prayer gathers women together to pray specifically and scripturally for our children and their schools. Won’t you join with us in prayer for this next generation? Please contact Lacey DeWitt. For more information about Moms in Prayer\, visit MomsInPrayer.org. \n 
URL:https://www.parksidecc.church/event/moms-in-prayer-2-2/2027-09-30/
LOCATION:Lacey’s House\, 210 N Michigan\, Argos\, IN\, United States
CATEGORIES:Women
ATTACH;FMTTYPE=image/png:https://www.parksidecc.church/wp-content/uploads/2024/03/MIP_Logo_1-01.png
END:VEVENT
BEGIN:VEVENT
DTSTART;TZID=America/Indiana/Indianapolis:20270930T180000
DTEND;TZID=America/Indiana/Indianapolis:20270930T200000
DTSTAMP:20260421T071505
CREATED:20250314T142229Z
LAST-MODIFIED:20250314T142229Z
UID:10001784-1822327200-1822334400@www.parksidecc.church
SUMMARY:Women's Bible Study
DESCRIPTION:Perfectly Flawed – Let’s find out how God can help us turn out weaknesses into strengths.
URL:https://www.parksidecc.church/event/womens-bible-study/2027-09-30/
CATEGORIES:Featured,Women
ATTACH;FMTTYPE=image/jpeg:https://www.parksidecc.church/wp-content/uploads/2025/03/women-s-bible-study_orig.jpg
END:VEVENT
BEGIN:VEVENT
DTSTART;TZID=America/Indiana/Indianapolis:20271007T171500
DTEND;TZID=America/Indiana/Indianapolis:20271007T190000
DTSTAMP:20260421T071505
CREATED:20250203T130703Z
LAST-MODIFIED:20250428T093925Z
UID:10002115-1822929300-1822935600@www.parksidecc.church
SUMMARY:Moms in Prayer
DESCRIPTION:Moms\, do you worry about your children? Come replace your anxiety and fear with peace and hope by praying with other women. Moms in Prayer gathers women together to pray specifically and scripturally for our children and their schools. Won’t you join with us in prayer for this next generation? Please contact Lacey DeWitt. For more information about Moms in Prayer\, visit MomsInPrayer.org. \n 
URL:https://www.parksidecc.church/event/moms-in-prayer-2-2/2027-10-07/
LOCATION:Lacey’s House\, 210 N Michigan\, Argos\, IN\, United States
CATEGORIES:Women
ATTACH;FMTTYPE=image/png:https://www.parksidecc.church/wp-content/uploads/2024/03/MIP_Logo_1-01.png
END:VEVENT
BEGIN:VEVENT
DTSTART;TZID=America/Indiana/Indianapolis:20271007T180000
DTEND;TZID=America/Indiana/Indianapolis:20271007T200000
DTSTAMP:20260421T071505
CREATED:20250314T142229Z
LAST-MODIFIED:20250314T142229Z
UID:10001785-1822932000-1822939200@www.parksidecc.church
SUMMARY:Women's Bible Study
DESCRIPTION:Perfectly Flawed – Let’s find out how God can help us turn out weaknesses into strengths.
URL:https://www.parksidecc.church/event/womens-bible-study/2027-10-07/
CATEGORIES:Featured,Women
ATTACH;FMTTYPE=image/jpeg:https://www.parksidecc.church/wp-content/uploads/2025/03/women-s-bible-study_orig.jpg
END:VEVENT
BEGIN:VEVENT
DTSTART;TZID=America/Indiana/Indianapolis:20271014T171500
DTEND;TZID=America/Indiana/Indianapolis:20271014T190000
DTSTAMP:20260421T071505
CREATED:20250203T130703Z
LAST-MODIFIED:20250428T093925Z
UID:10002116-1823534100-1823540400@www.parksidecc.church
SUMMARY:Moms in Prayer
DESCRIPTION:Moms\, do you worry about your children? Come replace your anxiety and fear with peace and hope by praying with other women. Moms in Prayer gathers women together to pray specifically and scripturally for our children and their schools. Won’t you join with us in prayer for this next generation? Please contact Lacey DeWitt. For more information about Moms in Prayer\, visit MomsInPrayer.org. \n 
URL:https://www.parksidecc.church/event/moms-in-prayer-2-2/2027-10-14/
LOCATION:Lacey’s House\, 210 N Michigan\, Argos\, IN\, United States
CATEGORIES:Women
ATTACH;FMTTYPE=image/png:https://www.parksidecc.church/wp-content/uploads/2024/03/MIP_Logo_1-01.png
END:VEVENT
BEGIN:VEVENT
DTSTART;TZID=America/Indiana/Indianapolis:20271014T180000
DTEND;TZID=America/Indiana/Indianapolis:20271014T200000
DTSTAMP:20260421T071505
CREATED:20250314T142229Z
LAST-MODIFIED:20250314T142229Z
UID:10001786-1823536800-1823544000@www.parksidecc.church
SUMMARY:Women's Bible Study
DESCRIPTION:Perfectly Flawed – Let’s find out how God can help us turn out weaknesses into strengths.
URL:https://www.parksidecc.church/event/womens-bible-study/2027-10-14/
CATEGORIES:Featured,Women
ATTACH;FMTTYPE=image/jpeg:https://www.parksidecc.church/wp-content/uploads/2025/03/women-s-bible-study_orig.jpg
END:VEVENT
BEGIN:VEVENT
DTSTART;TZID=America/Indiana/Indianapolis:20271021T171500
DTEND;TZID=America/Indiana/Indianapolis:20271021T190000
DTSTAMP:20260421T071505
CREATED:20250203T130703Z
LAST-MODIFIED:20250428T093925Z
UID:10002117-1824138900-1824145200@www.parksidecc.church
SUMMARY:Moms in Prayer
DESCRIPTION:Moms\, do you worry about your children? Come replace your anxiety and fear with peace and hope by praying with other women. Moms in Prayer gathers women together to pray specifically and scripturally for our children and their schools. Won’t you join with us in prayer for this next generation? Please contact Lacey DeWitt. For more information about Moms in Prayer\, visit MomsInPrayer.org. \n 
URL:https://www.parksidecc.church/event/moms-in-prayer-2-2/2027-10-21/
LOCATION:Lacey’s House\, 210 N Michigan\, Argos\, IN\, United States
CATEGORIES:Women
ATTACH;FMTTYPE=image/png:https://www.parksidecc.church/wp-content/uploads/2024/03/MIP_Logo_1-01.png
END:VEVENT
BEGIN:VEVENT
DTSTART;TZID=America/Indiana/Indianapolis:20271021T180000
DTEND;TZID=America/Indiana/Indianapolis:20271021T200000
DTSTAMP:20260421T071505
CREATED:20250314T142229Z
LAST-MODIFIED:20250314T142229Z
UID:10001787-1824141600-1824148800@www.parksidecc.church
SUMMARY:Women's Bible Study
DESCRIPTION:Perfectly Flawed – Let’s find out how God can help us turn out weaknesses into strengths.
URL:https://www.parksidecc.church/event/womens-bible-study/2027-10-21/
CATEGORIES:Featured,Women
ATTACH;FMTTYPE=image/jpeg:https://www.parksidecc.church/wp-content/uploads/2025/03/women-s-bible-study_orig.jpg
END:VEVENT
BEGIN:VEVENT
DTSTART;TZID=America/Indiana/Indianapolis:20271028T171500
DTEND;TZID=America/Indiana/Indianapolis:20271028T190000
DTSTAMP:20260421T071505
CREATED:20250203T130703Z
LAST-MODIFIED:20250428T093925Z
UID:10002118-1824743700-1824750000@www.parksidecc.church
SUMMARY:Moms in Prayer
DESCRIPTION:Moms\, do you worry about your children? Come replace your anxiety and fear with peace and hope by praying with other women. Moms in Prayer gathers women together to pray specifically and scripturally for our children and their schools. Won’t you join with us in prayer for this next generation? Please contact Lacey DeWitt. For more information about Moms in Prayer\, visit MomsInPrayer.org. \n 
URL:https://www.parksidecc.church/event/moms-in-prayer-2-2/2027-10-28/
LOCATION:Lacey’s House\, 210 N Michigan\, Argos\, IN\, United States
CATEGORIES:Women
ATTACH;FMTTYPE=image/png:https://www.parksidecc.church/wp-content/uploads/2024/03/MIP_Logo_1-01.png
END:VEVENT
BEGIN:VEVENT
DTSTART;TZID=America/Indiana/Indianapolis:20271028T180000
DTEND;TZID=America/Indiana/Indianapolis:20271028T200000
DTSTAMP:20260421T071505
CREATED:20250314T142229Z
LAST-MODIFIED:20250314T142229Z
UID:10001788-1824746400-1824753600@www.parksidecc.church
SUMMARY:Women's Bible Study
DESCRIPTION:Perfectly Flawed – Let’s find out how God can help us turn out weaknesses into strengths.
URL:https://www.parksidecc.church/event/womens-bible-study/2027-10-28/
CATEGORIES:Featured,Women
ATTACH;FMTTYPE=image/jpeg:https://www.parksidecc.church/wp-content/uploads/2025/03/women-s-bible-study_orig.jpg
END:VEVENT
BEGIN:VEVENT
DTSTART;TZID=America/Indiana/Indianapolis:20271104T171500
DTEND;TZID=America/Indiana/Indianapolis:20271104T190000
DTSTAMP:20260421T071505
CREATED:20250203T130703Z
LAST-MODIFIED:20250428T093925Z
UID:10002119-1825348500-1825354800@www.parksidecc.church
SUMMARY:Moms in Prayer
DESCRIPTION:Moms\, do you worry about your children? Come replace your anxiety and fear with peace and hope by praying with other women. Moms in Prayer gathers women together to pray specifically and scripturally for our children and their schools. Won’t you join with us in prayer for this next generation? Please contact Lacey DeWitt. For more information about Moms in Prayer\, visit MomsInPrayer.org. \n 
URL:https://www.parksidecc.church/event/moms-in-prayer-2-2/2027-11-04/
LOCATION:Lacey’s House\, 210 N Michigan\, Argos\, IN\, United States
CATEGORIES:Women
ATTACH;FMTTYPE=image/png:https://www.parksidecc.church/wp-content/uploads/2024/03/MIP_Logo_1-01.png
END:VEVENT
BEGIN:VEVENT
DTSTART;TZID=America/Indiana/Indianapolis:20271104T180000
DTEND;TZID=America/Indiana/Indianapolis:20271104T200000
DTSTAMP:20260421T071505
CREATED:20250314T142229Z
LAST-MODIFIED:20250314T142229Z
UID:10001789-1825351200-1825358400@www.parksidecc.church
SUMMARY:Women's Bible Study
DESCRIPTION:Perfectly Flawed – Let’s find out how God can help us turn out weaknesses into strengths.
URL:https://www.parksidecc.church/event/womens-bible-study/2027-11-04/
CATEGORIES:Featured,Women
ATTACH;FMTTYPE=image/jpeg:https://www.parksidecc.church/wp-content/uploads/2025/03/women-s-bible-study_orig.jpg
END:VEVENT
BEGIN:VEVENT
DTSTART;TZID=America/Indiana/Indianapolis:20271111T171500
DTEND;TZID=America/Indiana/Indianapolis:20271111T190000
DTSTAMP:20260421T071505
CREATED:20250203T130703Z
LAST-MODIFIED:20250428T093925Z
UID:10002120-1825953300-1825959600@www.parksidecc.church
SUMMARY:Moms in Prayer
DESCRIPTION:Moms\, do you worry about your children? Come replace your anxiety and fear with peace and hope by praying with other women. Moms in Prayer gathers women together to pray specifically and scripturally for our children and their schools. Won’t you join with us in prayer for this next generation? Please contact Lacey DeWitt. For more information about Moms in Prayer\, visit MomsInPrayer.org. \n 
URL:https://www.parksidecc.church/event/moms-in-prayer-2-2/2027-11-11/
LOCATION:Lacey’s House\, 210 N Michigan\, Argos\, IN\, United States
CATEGORIES:Women
ATTACH;FMTTYPE=image/png:https://www.parksidecc.church/wp-content/uploads/2024/03/MIP_Logo_1-01.png
END:VEVENT
BEGIN:VEVENT
DTSTART;TZID=America/Indiana/Indianapolis:20271111T180000
DTEND;TZID=America/Indiana/Indianapolis:20271111T200000
DTSTAMP:20260421T071505
CREATED:20250314T142229Z
LAST-MODIFIED:20250314T142229Z
UID:10001790-1825956000-1825963200@www.parksidecc.church
SUMMARY:Women's Bible Study
DESCRIPTION:Perfectly Flawed – Let’s find out how God can help us turn out weaknesses into strengths.
URL:https://www.parksidecc.church/event/womens-bible-study/2027-11-11/
CATEGORIES:Featured,Women
ATTACH;FMTTYPE=image/jpeg:https://www.parksidecc.church/wp-content/uploads/2025/03/women-s-bible-study_orig.jpg
END:VEVENT
BEGIN:VEVENT
DTSTART;TZID=America/Indiana/Indianapolis:20271118T171500
DTEND;TZID=America/Indiana/Indianapolis:20271118T190000
DTSTAMP:20260421T071505
CREATED:20250203T130703Z
LAST-MODIFIED:20250428T093925Z
UID:10002121-1826558100-1826564400@www.parksidecc.church
SUMMARY:Moms in Prayer
DESCRIPTION:Moms\, do you worry about your children? Come replace your anxiety and fear with peace and hope by praying with other women. Moms in Prayer gathers women together to pray specifically and scripturally for our children and their schools. Won’t you join with us in prayer for this next generation? Please contact Lacey DeWitt. For more information about Moms in Prayer\, visit MomsInPrayer.org. \n 
URL:https://www.parksidecc.church/event/moms-in-prayer-2-2/2027-11-18/
LOCATION:Lacey’s House\, 210 N Michigan\, Argos\, IN\, United States
CATEGORIES:Women
ATTACH;FMTTYPE=image/png:https://www.parksidecc.church/wp-content/uploads/2024/03/MIP_Logo_1-01.png
END:VEVENT
BEGIN:VEVENT
DTSTART;TZID=America/Indiana/Indianapolis:20271118T180000
DTEND;TZID=America/Indiana/Indianapolis:20271118T200000
DTSTAMP:20260421T071505
CREATED:20250314T142229Z
LAST-MODIFIED:20250314T142229Z
UID:10001791-1826560800-1826568000@www.parksidecc.church
SUMMARY:Women's Bible Study
DESCRIPTION:Perfectly Flawed – Let’s find out how God can help us turn out weaknesses into strengths.
URL:https://www.parksidecc.church/event/womens-bible-study/2027-11-18/
CATEGORIES:Featured,Women
ATTACH;FMTTYPE=image/jpeg:https://www.parksidecc.church/wp-content/uploads/2025/03/women-s-bible-study_orig.jpg
END:VEVENT
BEGIN:VEVENT
DTSTART;TZID=America/Indiana/Indianapolis:20271125T171500
DTEND;TZID=America/Indiana/Indianapolis:20271125T190000
DTSTAMP:20260421T071505
CREATED:20250203T130703Z
LAST-MODIFIED:20250428T093925Z
UID:10002122-1827162900-1827169200@www.parksidecc.church
SUMMARY:Moms in Prayer
DESCRIPTION:Moms\, do you worry about your children? Come replace your anxiety and fear with peace and hope by praying with other women. Moms in Prayer gathers women together to pray specifically and scripturally for our children and their schools. Won’t you join with us in prayer for this next generation? Please contact Lacey DeWitt. For more information about Moms in Prayer\, visit MomsInPrayer.org. \n 
URL:https://www.parksidecc.church/event/moms-in-prayer-2-2/2027-11-25/
LOCATION:Lacey’s House\, 210 N Michigan\, Argos\, IN\, United States
CATEGORIES:Women
ATTACH;FMTTYPE=image/png:https://www.parksidecc.church/wp-content/uploads/2024/03/MIP_Logo_1-01.png
END:VEVENT
BEGIN:VEVENT
DTSTART;TZID=America/Indiana/Indianapolis:20271125T180000
DTEND;TZID=America/Indiana/Indianapolis:20271125T200000
DTSTAMP:20260421T071505
CREATED:20250314T142229Z
LAST-MODIFIED:20250314T142229Z
UID:10001792-1827165600-1827172800@www.parksidecc.church
SUMMARY:Women's Bible Study
DESCRIPTION:Perfectly Flawed – Let’s find out how God can help us turn out weaknesses into strengths.
URL:https://www.parksidecc.church/event/womens-bible-study/2027-11-25/
CATEGORIES:Featured,Women
ATTACH;FMTTYPE=image/jpeg:https://www.parksidecc.church/wp-content/uploads/2025/03/women-s-bible-study_orig.jpg
END:VEVENT
BEGIN:VEVENT
DTSTART;TZID=America/Indiana/Indianapolis:20271202T171500
DTEND;TZID=America/Indiana/Indianapolis:20271202T190000
DTSTAMP:20260421T071505
CREATED:20250203T130703Z
LAST-MODIFIED:20250428T093925Z
UID:10002123-1827767700-1827774000@www.parksidecc.church
SUMMARY:Moms in Prayer
DESCRIPTION:Moms\, do you worry about your children? Come replace your anxiety and fear with peace and hope by praying with other women. Moms in Prayer gathers women together to pray specifically and scripturally for our children and their schools. Won’t you join with us in prayer for this next generation? Please contact Lacey DeWitt. For more information about Moms in Prayer\, visit MomsInPrayer.org. \n 
URL:https://www.parksidecc.church/event/moms-in-prayer-2-2/2027-12-02/
LOCATION:Lacey’s House\, 210 N Michigan\, Argos\, IN\, United States
CATEGORIES:Women
ATTACH;FMTTYPE=image/png:https://www.parksidecc.church/wp-content/uploads/2024/03/MIP_Logo_1-01.png
END:VEVENT
BEGIN:VEVENT
DTSTART;TZID=America/Indiana/Indianapolis:20271202T180000
DTEND;TZID=America/Indiana/Indianapolis:20271202T200000
DTSTAMP:20260421T071505
CREATED:20250314T142229Z
LAST-MODIFIED:20250314T142229Z
UID:10001793-1827770400-1827777600@www.parksidecc.church
SUMMARY:Women's Bible Study
DESCRIPTION:Perfectly Flawed – Let’s find out how God can help us turn out weaknesses into strengths.
URL:https://www.parksidecc.church/event/womens-bible-study/2027-12-02/
CATEGORIES:Featured,Women
ATTACH;FMTTYPE=image/jpeg:https://www.parksidecc.church/wp-content/uploads/2025/03/women-s-bible-study_orig.jpg
END:VEVENT
END:VCALENDAR